BEGIN:VCALENDAR
VERSION:2.0
PRODID:-//wp-events-plugin.com//7.2.3.1//EN
TZID:Europe/Amsterdam
X-WR-TIMEZONE:Europe/Amsterdam
BEGIN:VEVENT
UID:1203@duurzaam-ondernemen.nl
DTSTART;TZID=Europe/Amsterdam:20240118T121500
DTEND;TZID=Europe/Amsterdam:20240118T130000
DTSTAMP:20240112T081516Z
URL:https://www.duurzaam-ondernemen.nl/events/shift-lunch-inspiratiesessie
 -duurzaamheidsclaims-en-greenwashing/
SUMMARY:Shift Lunch Inspiratiesessie: Duurzaamheidsclaims en greenwashing
DESCRIPTION:Tijdens de inspiratiesessie zal Jellien Roelofs een introductie
  geven over duurzaamheidsclaims en greenwashing. Wat is greenwashing preci
 es? Kan je ook greenwashen als je goede intenties hebt?\n\nWelke woorden z
 ou elke organisatie moeten vermijden? Welke hulpmiddelen kan je gebruiken 
 als je over duurzaamheid wil communiceren?\n\nIn 45 min weet jij wat elke 
 organisatie zou moeten weten over duurzaamheidsclaims en greenwashing en h
 eb je handvatten om greenwashing binnen jouw organisatie tegen te gaan.\n\
 nOver Jellien:\n\nJellien Roelofs is legal expert op het gebied van duurza
 amheidscommunicatie (en Shift alumni). Met haar kantoor Lasting Legal advi
 seert ze duurzame ondernemers hoe zij kunnen communiceren over hun duurzaa
 mheid\, zonder greenwashing. Ze doet onderzoek naar duurzaamheidsclaims in
  samenwerking met de Hogeschool Leiden en publiceert en spreekt regelmatig
  over dit onderwerp.\n\nZoom link: https://us02web.zoom.us/j/81937497927
ATTACH;FMTTYPE=image/jpeg:https://www.duurzaam-ondernemen.nl/wordpress/wp-
 content/uploads/2024/01/shiftlunch.png
CATEGORIES:Duurzaamheidsprofessionals,Verslaggeving &amp; Transparantie
LOCATION:Online webinar\,  \,  \, Nederland
GEO:52.132633;5.291266
X-APPLE-STRUCTURED-LOCATION;VALUE=URI;X-ADDRESS= \,  \, Nederland;X-APPLE-R
 ADIUS=100;X-TITLE=Online webinar:geo:52.132633,5.291266
END:VEVENT
BEGIN:VTIMEZONE
TZID:Europe/Amsterdam
X-LIC-LOCATION:Europe/Amsterdam
BEGIN:STANDARD
DTSTART:20231029T020000
TZOFFSETFROM:+0200
TZOFFSETTO:+0100
TZNAME:CET
END:STANDARD
END:VTIMEZONE
END:VCALENDAR