BEGIN:VCALENDAR
VERSION:2.0
PRODID:-//wp-events-plugin.com//7.2.3.1//EN
TZID:Europe/Amsterdam
X-WR-TIMEZONE:Europe/Amsterdam
BEGIN:VEVENT
UID:2056@duurzaam-ondernemen.nl
DTSTART;TZID=Europe/Amsterdam:20260421T090000
DTEND;TZID=Europe/Amsterdam:20260421T160000
DTSTAMP:20260403T063256Z
URL:https://www.duurzaam-ondernemen.nl/events/session-eu-forced-labour-reg
 ulation-the-laws-requirement-the-investigators-lens/
SUMMARY:Session 'EU Forced Labour Regulation: The Law's Requirement\, the I
 nvestigator's Lens'
DESCRIPTION:Op 14 december 2027 treedt de EU Forced Labour Regulation in we
 rking. De verordening geldt voor elke sector\, elke schakel in de keten en
  elke bedrijfsomvang. Naar schatting 27\,6 miljoen mensen wereldwijd bevin
 den zich in een situatie van dwangarbeid. Het risico strekt zich uit van t
 extiel en landbouw tot elektronica en farmacie.\n\nDe wet kennen is pas he
 t begin. Handhaving volgt de onderzoeksmethodieken die worden ingezet bij 
 moderne slavernijzaken. Je due diligence moet dezelfde taal spreken als de
  onderzoekers.\n\nIntire organiseert vanaf april 2026 een reeks sessies ov
 er de EU Forced Labour Regulation. De openingssessie op 21 april combineer
 t het juridisch kader met het perspectief van ervaren opsporingsexperts. I
 n de ochtend neemt mensenrechtenadvocaat Andreea Holwerda-Gavrila (Intire)
  je mee door de scope\, tijdlijn en verplichtingen. In de middag vertalen 
 Helen Gordos en Victoria Wilde van de Britse National Policing Modern Slav
 ery Unit hun jarenlange operationele ervaring naar wat jouw documentatie m
 oet aantonen.\n\nVoor professionals die verantwoordelijk zijn voor complia
 nce\, due diligence of sustainability management.\n\nMeer info: https://i
 ntire.nl/eu-forced-labour-regulation/
ATTACH;FMTTYPE=image/jpeg:https://www.duurzaam-ondernemen.nl/wordpress/wp-
 content/uploads/2026/04/EUForcedLabourRegulation.png
CATEGORIES:Duurzaamheidsprofessionals
LOCATION:Intire\,  Lange Houtstraat 11\, Den Haag\, Nederland
GEO:52.090103;4.324123
X-APPLE-STRUCTURED-LOCATION;VALUE=URI;X-ADDRESS= Lange Houtstraat 11\, Den 
 Haag\, Nederland;X-APPLE-RADIUS=100;X-TITLE=Intire:geo:52.090103,4.324123
END:VEVENT
BEGIN:VTIMEZONE
TZID:Europe/Amsterdam
X-LIC-LOCATION:Europe/Amsterdam
BEGIN:DAYLIGHT
DTSTART:20260329T030000
TZOFFSETFROM:+0100
TZOFFSETTO:+0200
TZNAME:CEST
END:DAYLIGHT
END:VTIMEZONE
END:VCALENDAR