BEGIN:VCALENDAR
VERSION:2.0
PRODID:-//wp-events-plugin.com//7.2.3.1//EN
TZID:Europe/Amsterdam
X-WR-TIMEZONE:Europe/Amsterdam
BEGIN:VEVENT
UID:1877@duurzaam-ondernemen.nl
DTSTART;TZID=Europe/Amsterdam:20251120T143000
DTEND;TZID=Europe/Amsterdam:20251120T173000
DTSTAMP:20251022T070227Z
URL:https://www.duurzaam-ondernemen.nl/events/seminar-vbdo-business-biodiv
 ersity-benchmark/
SUMMARY:Seminar VBDO Business & Biodiversity Benchmark
DESCRIPTION:Op 20 november presenteert de VBDO\, met steun van PwC\, haar n
 ieuwe Business and Biodiversity Benchmark. Het rapport analyseert hoe bedr
 ijven omgaan met biodiversiteitsverlies\, gebaseerd op de prestaties van 3
 0 Europese beursgenoteerde bedrijven. Tijdens het seminar presenteren we d
 e belangrijkste bevindingen van dit innovatieve rapport en bespreken we de
  mogelijkheden voor verdere ontwikkeling.\n\nDe benchmark brengt in kaart 
 hoe biodiversiteit wordt beschouwd: van brede strategieën en bedrijfsmode
 llen tot de details van meetbare doelstellingen. De huidige scope omvat be
 drijven uit sectoren met een hoge impact en afhankelijkheid\, zoals de voe
 dings- en drankenindustrie\, de grondstoffenindustrie en de farmaceutische
  industrie. Naast een analyse van de 30 onderzochte bedrijven bevat het ra
 pport ook best practices en aanbevelingen voor verschillende stakeholders 
 om het biodiversiteitsverlies tegen 2030 terug te draaien\, in lijn met he
 t Kunming-Montreal Global Biodiversity Framework.\n\nDaarnaast bespreken b
 iodiversiteitsexperts van PwC\, BNP Paribas\, Naturalis en FrieslandCampin
 a ontwikkelingen op financieel gebied en praktische benaderingen voor bedr
 ijven om biodiversiteitsstrategieën verder te implementeren.\nProgramma\n
 \n 	14:30 Doors open\n 	15:00 Opening | Angelique Laskewitz\, Executive D
 irector VBDO\;\n 	15:10 Word of welcome | Maaike van de Kamp-Romijn\, Int
 erim Director Naturalis\n 	15:20 Biodiversity – an attractive business o
 pportunity | Robert-Alexandre Poujade\, Lead Biodiversity BNP Paribas\n 	
 15:45 Measuring Biodiversity | Vincent Merckx - Scientific Director Natur
 alis\n 	16:05 Key Note | Guus van Laarhoven\, Strategy Lead Nature &amp\;
  Regenerative Agriculture Friesland Campina\n 	16:25 Results Business &amp
 \; Biodiversity Benchmark | Thijs IJsbrandij\, Senior Manager Nature Stra
 tegy PwC &amp\; Manon Koelewijn-Timmerman\, Project Manager Responsible In
 vestment &amp\; Sustainability VBDO\n 	17:00 Drinks\n\nAanmelden
ATTACH;FMTTYPE=image/jpeg:https://www.duurzaam-ondernemen.nl/wordpress/wp-
 content/uploads/2025/10/unnamed-2025-10-22T085831.250.jpg
CATEGORIES:Duurzaamheidsprofessionals,Verslaggeving &amp; Transparantie
LOCATION:Naturalis\, Darwinweg 2\, Leiden\,  2333 CR\, Nederland
GEO:52.164895;4.47336
X-APPLE-STRUCTURED-LOCATION;VALUE=URI;X-ADDRESS=Darwinweg 2\, Leiden\,  233
 3 CR\, Nederland;X-APPLE-RADIUS=100;X-TITLE=Naturalis:geo:52.164895,4.4733
 6
END:VEVENT
BEGIN:VTIMEZONE
TZID:Europe/Amsterdam
X-LIC-LOCATION:Europe/Amsterdam
BEGIN:STANDARD
DTSTART:20251026T020000
TZOFFSETFROM:+0200
TZOFFSETTO:+0100
TZNAME:CET
END:STANDARD
END:VTIMEZONE
END:VCALENDAR