BEGIN:VCALENDAR
VERSION:2.0
PRODID:-//wp-events-plugin.com//7.2.3.1//EN
TZID:Europe/Amsterdam
X-WR-TIMEZONE:Europe/Amsterdam
BEGIN:VEVENT
UID:2058@duurzaam-ondernemen.nl
DTSTART;TZID=Europe/Amsterdam:20260408T093000
DTEND;TZID=Europe/Amsterdam:20260408T150000
DTSTAMP:20260403T093647Z
URL:https://www.duurzaam-ondernemen.nl/events/scale-it/
SUMMARY:Scale It!
DESCRIPTION:Op 8 april 2026 nodigt TKI Bouw en Techniek je uit voor het inn
 ovatie-event Scale It! in TivoliVredenburg\, Utrecht. Drie jaar na Kick It
 ! zetten we de volgende stap: opschalen.\n\n\nTijdens Scale It! laten we 
 zien wat we aan het doen zijn:\n\n 	Innovaties opschalen — hoe we de 
 sprong maken van pilot naar brede toepassing\n 	Productiviteit verhogen 
 — hoe we meer met minder bereiken\n 	Organisaties laten groeien — wel
 ke stappen en programma’s de groeiers doorlopen.\n\nReken op inspirerend
 e keynotes en volop interactie om kennis en ervaringen uit te wisselen m
 et koplopers uit de sector. Maak bovendien kennis met partners uit ander
 e innovatieprogramma’s die TKI Bouw en Techniek coördineert.\nSprekers\
 nDiederik Samsom\nVoorzitter TKI Bouw en Techniek\n\nJan van Beuningen\nDi
 recteur Bouwen en Energie (min. van BZK)\n\nMartin Wijnen\nDirecteur-Gener
 aal Rijkswaterstaat\n\nDeborah Nas\nInnovatie Expert (o.a. TU Delft)\n\nNi
 ck Boersma\nVereniging Circulair Friesland\n\nDagvoorzitter\nMarijn de Vri
 es\nJournalist NRC\, ex-profwielrenster\n\nMeer informatie/aanmelden
ATTACH;FMTTYPE=image/jpeg:https://www.duurzaam-ondernemen.nl/wordpress/wp-
 content/uploads/2026/04/Banner-05.png
CATEGORIES:Bouw/Infra &amp; Vastgoed
LOCATION:TivoliVredenburg\, Vredenburgkade 11\, Utrecht\, 3511 WC\, Nederla
 nd
GEO:52.092176;5.113113
X-APPLE-STRUCTURED-LOCATION;VALUE=URI;X-ADDRESS=Vredenburgkade 11\, Utrecht
 \, 3511 WC\, Nederland;X-APPLE-RADIUS=100;X-TITLE=TivoliVredenburg:geo:52.
 092176,5.113113
END:VEVENT
BEGIN:VTIMEZONE
TZID:Europe/Amsterdam
X-LIC-LOCATION:Europe/Amsterdam
BEGIN:DAYLIGHT
DTSTART:20260329T030000
TZOFFSETFROM:+0100
TZOFFSETTO:+0200
TZNAME:CEST
END:DAYLIGHT
END:VTIMEZONE
END:VCALENDAR