BEGIN:VCALENDAR
VERSION:2.0
PRODID:-//wp-events-plugin.com//7.2.3.1//EN
TZID:Europe/Amsterdam
X-WR-TIMEZONE:Europe/Amsterdam
BEGIN:VEVENT
UID:1896@duurzaam-ondernemen.nl
DTSTART;TZID=Europe/Amsterdam:20251209T120000
DTEND;TZID=Europe/Amsterdam:20251209T140000
DTSTAMP:20251113T074902Z
URL:https://www.duurzaam-ondernemen.nl/events/sbti-share-learn-incl-lunch-
 eng/
SUMMARY:SBTi Share & Learn (incl. lunch) (ENG)
DESCRIPTION:Explore practical challenges and share insights on translating 
 climate commitments into validated Science-Based Targets (incl. FLAG) with
 in the food and agricultural sector. Enjoy lunch while learning from exper
 ts and peers. Organised by 2Impact.\nWho should attend\nProfessionals invo
 lved in climate strategy\, target setting\, or reporting in food and agric
 ulture.\nWhat you will learn\n\n 	Step-by-step guidance to move from high-
 level commitments to validated SBTi targets\n 	Key challenges and common p
 itfalls in target setting for agriculture and food\n 	Best practices to hi
 ghlight topics such as Scope 3 supplier data\, land-use accounting\, doubl
 e counting with FLAG vs non-FLAG targets\n 	Meet peers and exchange valuab
 le practical experiences\n\nRegister through this link.
ATTACH;FMTTYPE=image/jpeg:https://www.duurzaam-ondernemen.nl/wordpress/wp-
 content/uploads/2025/11/Duurzaam-Ondernemen-Banner-LL-SBTI-1.png
CATEGORIES:Klimaat en Energie,Verslaggeving &amp; Transparantie,Voeding
 &amp; Landbouw
LOCATION:Groothandelsgebouw\, Stationsplein 45\, Rotterdam\, 3013 AK\, Nede
 rland
GEO:51.923455;4.469124
X-APPLE-STRUCTURED-LOCATION;VALUE=URI;X-ADDRESS=Stationsplein 45\, Rotterda
 m\, 3013 AK\, Nederland;X-APPLE-RADIUS=100;X-TITLE=Groothandelsgebouw:geo:
 51.923455,4.469124
END:VEVENT
BEGIN:VTIMEZONE
TZID:Europe/Amsterdam
X-LIC-LOCATION:Europe/Amsterdam
BEGIN:STANDARD
DTSTART:20251026T020000
TZOFFSETFROM:+0200
TZOFFSETTO:+0100
TZNAME:CET
END:STANDARD
END:VTIMEZONE
END:VCALENDAR