BEGIN:VCALENDAR
VERSION:2.0
PRODID:-//wp-events-plugin.com//7.2.3.1//EN
TZID:Europe/Amsterdam
X-WR-TIMEZONE:Europe/Amsterdam
BEGIN:VEVENT
UID:1655@duurzaam-ondernemen.nl
DTSTART;TZID=Europe/Amsterdam:20250408T120000
DTEND;TZID=Europe/Amsterdam:20250408T130000
DTSTAMP:20250401T053312Z
URL:https://www.duurzaam-ondernemen.nl/events/roundtable-biodiversiteit-be
 st-practices-in-rapportage/
SUMMARY:Webinar: Biodiversiteit & Best practices in Rapportage
DESCRIPTION:Biodiversiteit (E4) is een cruciaal maar complex aspect van duu
 rzaamheidsrapportage. Hoewel het nauw verbonden is met klimaatverandering\
 , vereist het een eigen benadering bij het rapporteren over Impact\, Risic
 o’s en Kansen (IRK’s)\, beleid\, acties en maatregelen.\n\nDoe mee aan
  dit inspirerende webinar van TOSCA in samenwerking met NLadviseurs\, waar
 in we de nieuwste duurzaamheidsrapporten van 2024 onder de loep nemen met 
 een speciale focus op biodiversiteit.\n\nWat je kunt verwachten:\n\n 	Best
  practices uit de meest recente Duurzaamheidsrapporten (2024)\n 	Inzichten
  in hoe je impacts en afhankelijkheden in de waardeketen in kaart brengt\n
  	De kans om vragen te stellen en te leren van experts uit het vakgebied\n
  	Een waardevol netwerk van vakgenoten die voor soortgelijke uitdagingen s
 taan\n\nBen jij er ook bij? Aanmelden.
ATTACH;FMTTYPE=image/jpeg:https://www.duurzaam-ondernemen.nl/wordpress/wp-
 content/uploads/2025/03/webin.jpg
CATEGORIES:Verslaggeving &amp; Transparantie
LOCATION:Online webinar\,  \,  \, Nederland
GEO:52.132633;5.291266
X-APPLE-STRUCTURED-LOCATION;VALUE=URI;X-ADDRESS= \,  \, Nederland;X-APPLE-R
 ADIUS=100;X-TITLE=Online webinar:geo:52.132633,5.291266
END:VEVENT
BEGIN:VTIMEZONE
TZID:Europe/Amsterdam
X-LIC-LOCATION:Europe/Amsterdam
BEGIN:DAYLIGHT
DTSTART:20250330T030000
TZOFFSETFROM:+0100
TZOFFSETTO:+0200
TZNAME:CEST
END:DAYLIGHT
END:VTIMEZONE
END:VCALENDAR