BEGIN:VCALENDAR
VERSION:2.0
PRODID:-//wp-events-plugin.com//7.2.3.1//EN
TZID:Europe/Amsterdam
X-WR-TIMEZONE:Europe/Amsterdam
BEGIN:VEVENT
UID:1657@duurzaam-ondernemen.nl
DTSTART;TZID=Europe/Amsterdam:20250417T123000
DTEND;TZID=Europe/Amsterdam:20250417T170000
DTSTAMP:20250312T073314Z
URL:https://www.duurzaam-ondernemen.nl/events/rondetafel-introductie-tot-c
 o%e2%82%82-reductie-target-setting/
SUMMARY:Rondetafel – Introductie tot CO₂ Reductie Target-Setting
DESCRIPTION:Steeds meer bedrijven zullen de komende jaren CO₂-reductiedoe
 lstellingen moeten gaan vaststellen. Tijdens eerdere rondetafelsessies bes
 praken we al vragen over CSRD-regelgeving en Carbon Accounting. Nu is het 
 tijd om de volgende stap te zetten: Hoe stel je haalbare CO₂-reductiedoe
 lstellingen?\n\nBen je bijna klaar met jouw Corporate Carbon Footprint en 
 op zoek naar concrete manieren om effectieve reductiedoelen te stellen? Da
 n is deze rondetafelsessie speciaal voor jou! We nemen je mee in praktisch
 e stappen om realistische en impactvolle CO₂-reductiedoelen te formulere
 n.\nWat kun je verwachten?\nOp 17 april organiseren we een interactieve se
 ssie waarin we je meenemen in de vervolgfase van je duurzaamheidsreis. Tij
 dens deze bijeenkomst bespreken we:\n\n 	Bottom-up versus top-down aanpak:
  Leer welke strategie het beste bij jouw organisatie past.\n 	Introductie
  tot Science Based Targets: Ontdek de fundamenten van deze wetenschappeli
 jke benadering voor het stellen van reductiedoelen.\n 	Interactie met Scop
 e 3 emissies: Leer hoe nauwkeurige Scope 3-data jouw organisatie kan help
 en bij het stellen van reductiedoelen.\n 	Doelen stellen in lijn met de CS
 RD: Krijg praktische handvatten om jouw reductiedoelen effectief te integ
 reren in je duurzaamheidsrapportage.\n\nGastspreker: Jelle Mattias Holwerd
 a MSc RA (CPA) en Co-founder van Quantifier\nWij zijn verheugd om aan te 
 kondigen dat Jelle Mattias Holwerda van Quantifier als gastspreker aanwezi
 g zal zijn. Met meer dan 15 jaar ervaring in de auditwereld en als lid van
  de ESG Assurance Working Group voor de Koninklijke Nederlandse Beroepsorg
 anisatie van Accountants\, brengt Jelle Mattias een schat aan kennis en pr
 aktijkervaring mee. Zijn inzichten over ESG Assurance en CSRD-rapportage z
 ullen je inspireren en helpen om jouw duurzaamheidsdoelen audit-proof te m
 aken.\n\nWaarom deelnemen?\n\n 	Inzichten en inspiratie: Wissel ervaringe
 n uit en leer van best practices binnen de markt.\n 	Direct toepasbare ken
 nis: Ontvang concrete tips en strategieën om jouw reductiedoelen te real
 iseren.\n 	Audit Inzichten: Leer hoe een auditor naar reductiedoelen kijk
 t en welke aandachtspunten daarbij komen kijken.\n 	Netwerkmogelijkheden:
  Leg waardevolle contacten met andere professionals die dezelfde duurzaam
 heidsambities delen.\n\nMeer informatie/gratis aanmelden
ATTACH;FMTTYPE=image/jpeg:https://www.duurzaam-ondernemen.nl/wordpress/wp-
 content/uploads/2025/03/rondetafel_intire.jpg
CATEGORIES:Klimaat en Energie,Verslaggeving &amp; Transparantie
LOCATION:Intire\,  Lange Houtstraat 11\, Den Haag\, Nederland
GEO:52.090103;4.324123
X-APPLE-STRUCTURED-LOCATION;VALUE=URI;X-ADDRESS= Lange Houtstraat 11\, Den 
 Haag\, Nederland;X-APPLE-RADIUS=100;X-TITLE=Intire:geo:52.090103,4.324123
END:VEVENT
BEGIN:VTIMEZONE
TZID:Europe/Amsterdam
X-LIC-LOCATION:Europe/Amsterdam
BEGIN:DAYLIGHT
DTSTART:20250330T030000
TZOFFSETFROM:+0100
TZOFFSETTO:+0200
TZNAME:CEST
END:DAYLIGHT
END:VTIMEZONE
END:VCALENDAR