BEGIN:VCALENDAR
VERSION:2.0
PRODID:-//wp-events-plugin.com//7.2.3.1//EN
TZID:Europe/Amsterdam
X-WR-TIMEZONE:Europe/Amsterdam
BEGIN:VEVENT
UID:2055@duurzaam-ondernemen.nl
DTSTART;TZID=Europe/Amsterdam:20260513T123000
DTEND;TZID=Europe/Amsterdam:20260513T170000
DTSTAMP:20260403T063335Z
URL:https://www.duurzaam-ondernemen.nl/events/rondetafel-agri-food-retail-
 scope-3-in-de-voedselketen/
SUMMARY:Rondetafel Agri\, Food & Retail: Scope 3 in de voedselketen
DESCRIPTION:Voedselproductie is één van de meest emissie-intensieve secto
 ren\, en tegelijk een van de meest ondoorzichtige. Scope 3.1 blijft voor v
 eel organisaties in de keten een blinde vlek. Beschikbare emissiefactoren 
 zijn generiek\, leveranciers kunnen de benodigde emissiedata vaak niet aan
 leveren\, en de uitsplitsing tussen FLAG en non-FLAG is complex.\n\nOndert
 ussen verplicht de CSRD steeds meer organisaties tot transparantie over sc
 ope 3-emissies. Het gevolg: veel bedrijven rapporteren op basis van aannam
 es in plaats van inzicht.\n\nIntire brengt professionals uit de food suppl
 y chain samen aan tafel. Scope 3 vormt de rode draad\, met als thema's car
 bon footprint\, CSRD-rapportage\, de rol van data en samenwerking in de ke
 ten. Sprekers zijn Petra Hissink (Director Sustainability\, Royal Cosun) e
 n Harm-Jan Pietersen (Director ESG Reporting &amp\; Investor Relations\, A
 hold Delhaize).\n\nVoor sustainability managers en ESG-rapportageverantwoo
 rdelijken in de agrifoodsector.\n\nMeer info: https://intire.nl/rondetafe
 l-agrifood-retail/
ATTACH;FMTTYPE=image/jpeg:https://www.duurzaam-ondernemen.nl/wordpress/wp-
 content/uploads/2026/04/agri-food-en-retail-rondetafelsessie.png
CATEGORIES:Klimaat en Energie,Voeding &amp; Landbouw
LOCATION:Intire\,  Lange Houtstraat 11\, Den Haag\, Nederland
GEO:52.090103;4.324123
X-APPLE-STRUCTURED-LOCATION;VALUE=URI;X-ADDRESS= Lange Houtstraat 11\, Den 
 Haag\, Nederland;X-APPLE-RADIUS=100;X-TITLE=Intire:geo:52.090103,4.324123
END:VEVENT
BEGIN:VTIMEZONE
TZID:Europe/Amsterdam
X-LIC-LOCATION:Europe/Amsterdam
BEGIN:DAYLIGHT
DTSTART:20260329T030000
TZOFFSETFROM:+0100
TZOFFSETTO:+0200
TZNAME:CEST
END:DAYLIGHT
END:VTIMEZONE
END:VCALENDAR