BEGIN:VCALENDAR
VERSION:2.0
PRODID:-//wp-events-plugin.com//7.2.3.1//EN
TZID:Europe/Amsterdam
X-WR-TIMEZONE:Europe/Amsterdam
BEGIN:VEVENT
UID:1930@duurzaam-ondernemen.nl
DTSTART;TZID=Europe/Amsterdam:20250916T093000
DTEND;TZID=Europe/Amsterdam:20250917T170000
DTSTAMP:20251205T115441Z
URL:https://www.duurzaam-ondernemen.nl/events/recharge-earth_2026/
SUMMARY:Recharge Earth 2026
DESCRIPTION:Op 16 &amp\; 17 september 2026 brengt Recharge Earth in Rotte
 rdam Ahoy professionals uit de energiesector samen voor een inspirerende v
 ijfde editie. Recharge Earth vormt hét platform waar innovatieve produc
 ten\, diensten en projecten worden gepresenteerd\, en waar kennisdeling en
  samenwerking centraal staan.\n\nDe hoofdthema's Renew &amp\; Generate\,
  Transport &amp\; Storage en Use &amp\; Reduce verbinden het programma
 \, dat bestaat uit plenaire sessies\, interactieve breakout rondes en volo
 p netwerkmogelijkheden. Recharge Earth is dé plek waar denken en doen sam
 enkomen om de energietransitie te versnellen. We nodigen je van harte uit 
 om deel te nemen\, als partner en/of als bezoeker\, en bij te dragen aan e
 en duurzame toekomst.\n\nMeer informatie / aanmelden
ATTACH;FMTTYPE=image/jpeg:https://www.duurzaam-ondernemen.nl/wordpress/wp-
 content/uploads/2023/06/recharge_banner.jpg
CATEGORIES:Klimaat en Energie
LOCATION:Rotterdam Ahoy Convention Centre\, Ahoyweg 10\, Rotterdam\, 3084 B
 A \, Nederland
GEO:51.881942;4.486594
X-APPLE-STRUCTURED-LOCATION;VALUE=URI;X-ADDRESS=Ahoyweg 10\, Rotterdam\, 30
 84 BA \, Nederland;X-APPLE-RADIUS=100;X-TITLE=Rotterdam Ahoy Convention Ce
 ntre:geo:51.881942,4.486594
END:VEVENT
BEGIN:VTIMEZONE
TZID:Europe/Amsterdam
X-LIC-LOCATION:Europe/Amsterdam
BEGIN:DAYLIGHT
DTSTART:20250330T030000
TZOFFSETFROM:+0100
TZOFFSETTO:+0200
TZNAME:CEST
END:DAYLIGHT
END:VTIMEZONE
END:VCALENDAR