BEGIN:VCALENDAR
VERSION:2.0
PRODID:-//wp-events-plugin.com//7.2.3.1//EN
TZID:Europe/Amsterdam
X-WR-TIMEZONE:Europe/Amsterdam
BEGIN:VEVENT
UID:2035@duurzaam-ondernemen.nl
DTSTART;TZID=Europe/Amsterdam:20260326T160000
DTEND;TZID=Europe/Amsterdam:20260326T180000
DTSTAMP:20260320T073855Z
URL:https://www.duurzaam-ondernemen.nl/events/rebusiness-network-meetup/
SUMMARY:Re:Business Network meetup
DESCRIPTION:Re:Business Network is een netwerk voor mensen die werken aan p
 ositieve verandering. In een wereld waarin duurzaamheid eigenlijk gisteren
  al actie vereiste\, is samenwerking de sleutel tot het vinden van oplossi
 ngen. Daarom hebben we Re:Business opgericht\, een plek om te leren\, te d
 elen en in contact te komen met gelijkgestemde changemakers die impact mak
 en.\n\nOnze missie? Het opbouwen van een regeneratieve community\, gebasee
 rd op eerlijke gesprekken over successen en uitdagingen.\n\n\nProgramma: A
 lexandra Kist en Jessica Kallenberg van O My Bag geven een kijkje in de ho
 ogte- en dieptepunten van hun bedrijf. Met hun tassen vertellen ze een ver
 haal over het verbinden van lokale ambachtslieden met een wereldwijd publi
 ek\, sociale rechtvaardigheid en zorgvuldig omgaan met de planeet.\n\nTijd
 ens de sessie op 26 maart delen zij eerlijk hun ervaringen met actuele uit
 dagingen\, zoals de economische druk op duurzame proposities\, de realitei
 t van Digital Product Passports\, de paradox van duurzaamheidscommunicatie
  en de veranderende waarde van B Corp-certificering. Een inspirerende sess
 ie vol inzichten uit de praktijk\, mis het niet!\n\nUiteraard is er ruimte
  genoeg om te net werken met andere professional oa via topic tabels.\n\nT
 ickets: https://shop.weeztix.com/3e111495-4a0e-483a-9b30-96f2304a0934\n\n
ATTACH;FMTTYPE=image/jpeg:https://www.duurzaam-ondernemen.nl/wordpress/wp-
 content/uploads/2026/03/bag.jpg
CATEGORIES:Duurzaamheidsprofessionals
LOCATION:IKEA Amshult\, Danzigerkade 14-15\, Amsterdam\, Nederland
GEO:52.398933;4.87714
X-APPLE-STRUCTURED-LOCATION;VALUE=URI;X-ADDRESS=Danzigerkade 14-15\, Amster
 dam\, Nederland;X-APPLE-RADIUS=100;X-TITLE=IKEA Amshult:geo:52.398933,4.87
 714
END:VEVENT
BEGIN:VTIMEZONE
TZID:Europe/Amsterdam
X-LIC-LOCATION:Europe/Amsterdam
BEGIN:STANDARD
DTSTART:20251026T020000
TZOFFSETFROM:+0200
TZOFFSETTO:+0100
TZNAME:CET
END:STANDARD
END:VTIMEZONE
END:VCALENDAR