BEGIN:VCALENDAR
VERSION:2.0
PRODID:-//wp-events-plugin.com//7.2.3.1//EN
TZID:Europe/Amsterdam
X-WR-TIMEZONE:Europe/Amsterdam
BEGIN:VEVENT
UID:2050@duurzaam-ondernemen.nl
DTSTART;TZID=Europe/Amsterdam:20260528T083000
DTEND;TZID=Europe/Amsterdam:20260528T130000
DTSTAMP:20260403T073236Z
URL:https://www.duurzaam-ondernemen.nl/events/ppwr-masterclass/
SUMMARY:PPWR Masterclass
DESCRIPTION:How can your organization prepare for PPWR and turn compliance 
 into a cost opportunity?\nOn May 28th\, ImpactBuying is hosting an intima
 te PPWR Masterclass.\n\nDuring this half-day session\, we will take a dee
 p dive into the Packaging and Packaging Waste Regulation (PPWR) and what
  it means for your organization. As requirements evolve across the EU\, co
 mpanies must rethink how they manage packaging data\, supplier documentati
 on\, and recyclability performance.\n\nPPWR is not just a compliance exerc
 ise. It will directly impact cost structures\, packaging design and suppl
 ier collaboration.\n\nThis masterclass brings together retailers\, produce
 rs\, and industry experts to provide practical guidance on how to prepare
  efficiently\, reduce risk\, and identify cost-saving opportunities.\nWhat
  will you learn?\n\n 	The impact of PPWR on packaging strategy\, cost stru
 ctures\, and operations\n 	Key regulatory requirements and timelines from 
 2026 to 2040\n 	How EPR fees and recyclability requirements affect your co
 st exposure\n 	The importance of supplier data\, documentation\, and verif
 ication\n 	Practical steps to build a PPWR-ready packaging dataset\n 	How 
 to identify packaging optimization and cost-saving opportunities\n\nWhy at
 tend?\n\n 	Understand your current level of PPWR readiness\n 	Identify ris
 ks and cost exposure within your packaging portfolio\n 	Learn how to struc
 ture packaging data and documentation\n 	Gain practical tools and framewor
 ks to start immediately\n 	Exchange experiences with peers facing similar 
 challenges\n\nProgram (Morning Session)\n\n 	08:30 – 09:00: Walk-in and 
 coffee\, bites\n 	09:00 – 09:45: Opening and introduction to PPWR\n 	09:
 45 – 10:30: Understanding PPWR: requirements\, timelines\, and impact\n 
 	10:30 – 11:00: Break\n 	11:00 – 11:45: From compliance to cost: Works
 hop on risks and opportunities\n 	11:45 – 12:30: How to prepare: Plan in
  action on data\, suppliers\, and implementation\n 	12:30 – 13:00: Impac
 tBuying approach\, tools\, and client use cases\n\nWho should attend this 
 event?\nRetailers\, producers\, and traders responsible for packaging\, su
 stainability\, procurement\, or compliance.\n\nThe event will be in Englis
 h and tickets are 295.00 Euro for the half-day program including coffee\, 
 breakfast bites\, lunch\, and drinks.\n\nSpeciaal voor bezoekers van deze 
 website krijg je tot met 30 april 25\,- korting met de code Duurzaam25.\n\
 nRegistration/More information
ATTACH;FMTTYPE=image/jpeg:https://www.duurzaam-ondernemen.nl/wordpress/wp-
 content/uploads/2026/03/IN-PERSON-WORKSHOP-PPWR-Masterclass-1.png
CATEGORIES:Circulaire economie,Verslaggeving &amp; Transparantie
LOCATION:Van der Valk Schiphol\,  A4 3\, Hoofddorp\, 2132 MA\, Nederland
GEO:52.258743;4.689312
X-APPLE-STRUCTURED-LOCATION;VALUE=URI;X-ADDRESS= A4 3\, Hoofddorp\, 2132 MA
 \, Nederland;X-APPLE-RADIUS=100;X-TITLE=Van der Valk Schiphol:geo:52.25874
 3,4.689312
END:VEVENT
BEGIN:VTIMEZONE
TZID:Europe/Amsterdam
X-LIC-LOCATION:Europe/Amsterdam
BEGIN:DAYLIGHT
DTSTART:20260329T030000
TZOFFSETFROM:+0100
TZOFFSETTO:+0200
TZNAME:CEST
END:DAYLIGHT
END:VTIMEZONE
END:VCALENDAR