BEGIN:VCALENDAR
VERSION:2.0
PRODID:-//wp-events-plugin.com//7.2.3.1//EN
TZID:Europe/Amsterdam
X-WR-TIMEZONE:Europe/Amsterdam
BEGIN:VEVENT
UID:1941@duurzaam-ondernemen.nl
DTSTART;TZID=Europe/Amsterdam:20260408T093000
DTEND;TZID=Europe/Amsterdam:20260409T170000
DTSTAMP:20260310T155030Z
URL:https://www.duurzaam-ondernemen.nl/events/plant-fwd-2026/
SUMMARY:Plant FWD 2026
DESCRIPTION:Join Europe’s biggest conference for alternative protein prof
 essionals at the Midden Nederland Hallen in Barneveld on April 8-9\, 2026
 ! At Plant FWD\, we’re bringing together the best minds in the game—fr
 om pioneering start-ups and forward-thinking investors to visionary policy
 makers\, change-making corporates\, creative chefs\, and innovative resear
 chers—all united to shape a plant-forward future. Because our food syste
 m need a radical transformation. And that requires bold action. Will you j
 oin us?\n\n&#x200d\;What you can expect at Plant FWD 2026:\n\n 	&#x200d\;N
 etwork with 1000+ changemakers in food\, industry experts and emerging br
 ands.\n 	Get inspired by 40+ visionary speakers ranging from CEO's and f
 ounders to policy makers and groundbreaking scientists.\n 	Discover the h
 ottest start- and scale-ups and apply to pitch to retail buyers &amp\; in
 vestors.\n 	Taste and discover the latest food innovations and products f
 rom our partners at The Market of 1\,000 m2.\n\nMore information\n\n
ATTACH;FMTTYPE=image/jpeg:https://www.duurzaam-ondernemen.nl/wordpress/wp-
 content/uploads/2025/12/DS-NewsletterMarch2026-PlantFWD.jpg
CATEGORIES:Voeding &amp; Landbouw
LOCATION:Midden Nederland Hallen\, Thorbeckelaan 123\, Barneveld\, 3771 ED\
 , Nederland
GEO:52.148476;5.569527
X-APPLE-STRUCTURED-LOCATION;VALUE=URI;X-ADDRESS=Thorbeckelaan 123\, Barneve
 ld\, 3771 ED\, Nederland;X-APPLE-RADIUS=100;X-TITLE=Midden Nederland Halle
 n:geo:52.148476,5.569527
END:VEVENT
BEGIN:VTIMEZONE
TZID:Europe/Amsterdam
X-LIC-LOCATION:Europe/Amsterdam
BEGIN:DAYLIGHT
DTSTART:20260329T030000
TZOFFSETFROM:+0100
TZOFFSETTO:+0200
TZNAME:CEST
END:DAYLIGHT
END:VTIMEZONE
END:VCALENDAR