BEGIN:VCALENDAR
VERSION:2.0
PRODID:-//wp-events-plugin.com//7.2.3.1//EN
TZID:Europe/Amsterdam
X-WR-TIMEZONE:Europe/Amsterdam
BEGIN:VEVENT
UID:1944@duurzaam-ondernemen.nl
DTSTART;TZID=Europe/Amsterdam:20260113T123000
DTEND;TZID=Europe/Amsterdam:20260113T131500
DTSTAMP:20260105T172500Z
URL:https://www.duurzaam-ondernemen.nl/events/peer-to-peer-session-b-corp-
 new-standards/
SUMMARY:Peer-to-peer session: B Corp New Standards
DESCRIPTION:Since the launch of the new B Corp standards we've noticed many
  companies still face open questions and challenges.\nThat’s why The Ter
 race decided to organise an online lunch session – your chance to ask qu
 estions\, share your challenges\, find out what B Corp certification can b
 ring you\, and hear how others are navigating the B Corp journey.\n\nNo sl
 ides\, just an informal conversation hosted by one of our B Corp experts.\
 n\nBring your lunch and questions.\n\nSee you there!\n\nRegister here\n
ATTACH;FMTTYPE=image/jpeg:https://www.duurzaam-ondernemen.nl/wordpress/wp-
 content/uploads/2026/01/B-Corp-event-cover-The-Terrace-800-x-460-px.png
CATEGORIES:Duurzaamheidsprofessionals
LOCATION:Online webinar\,  \,  \, Nederland
GEO:52.132633;5.291266
X-APPLE-STRUCTURED-LOCATION;VALUE=URI;X-ADDRESS= \,  \, Nederland;X-APPLE-R
 ADIUS=100;X-TITLE=Online webinar:geo:52.132633,5.291266
END:VEVENT
BEGIN:VTIMEZONE
TZID:Europe/Amsterdam
X-LIC-LOCATION:Europe/Amsterdam
BEGIN:STANDARD
DTSTART:20251026T020000
TZOFFSETFROM:+0200
TZOFFSETTO:+0100
TZNAME:CET
END:STANDARD
END:VTIMEZONE
END:VCALENDAR