BEGIN:VCALENDAR
VERSION:2.0
PRODID:-//wp-events-plugin.com//7.2.3.1//EN
TZID:Europe/Amsterdam
X-WR-TIMEZONE:Europe/Amsterdam
BEGIN:VEVENT
UID:1865@duurzaam-ondernemen.nl
DTSTART;TZID=Europe/Amsterdam:20251127T114500
DTEND;TZID=Europe/Amsterdam:20251127T180000
DTSTAMP:20251115T121244Z
URL:https://www.duurzaam-ondernemen.nl/events/paris-proof-congres-2025-par
 is-proof-is-future-proof/
SUMMARY:Paris Proof Congres 2025: ‘Paris Proof is future-proof’
DESCRIPTION:Het thema van het Paris Proof Congres is dit jaar  ‘Paris P
 roof is future-proof’. De klimaatdoelen van Parijs moeten nu gehaald wor
 den. Alleen door in te zetten op het goed gebruiken van wat we al hebben 
 én verduurzaming\, bouwen we aan gebouwen en steden die bestand zijn tege
 n de uitdagingen van morgen. Wie vandaag Paris Proof omarmt\, staat morgen
  ‘future-proof’ in een wereld die steeds sneller verandert. Tijdens he
 t congres komen mooie voorbeelden uit de markt aan bod én geleerde lessen
  om anderen te inspireren dezelfde weg in te slaan.\nPlenair programma op 
 hoofdlijnen\nHet Paris Proof Congres wordt dit jaar voor de vierde keer ge
 organiseerd en staat onder leiding van dagvoorzitter Brigit Gerritse\, alg
 emeen directeur DGBC.  De eerste 2 sprekers tijdens het plenaire progr
 amma kunnen we al bekend maken:\n\nHeleen de Coninck is hoogleraar Socio-T
 echnische Innovatie en Klimaatverandering aan de TU Eindhoven en hoogleraa
 r Klimaatverandering en systeemtransities aan de Radboud Universiteit Nijm
 egen. Ook was ze één van de hoofdauteurs van het IPCC-rapport (2018) en 
 is zij momenteel vicevoorzitter van de Wetenschappelijke Klimaatraad.\n\nC
 ristina Gamboa\, CEO van de World Green Building Council (WorldGBC). Zij l
 eidt een netwerk van meer dan 75 nationale Green Building Councils (GBC's)
 \, die 47.000 bedrijven vertegenwoordigen. Dit netwerk\, waar DGBC onderde
 el van is\, zet zich in voor schaalbare oplossingen en effectieve belangen
 behartiging om de duurzame transformatie van de gebouwde omgeving te waarb
 orgen.\n\nDe andere sprekers tijdens het plenaire programma maken we binne
 nkort bekend.\nDeelsessies rondom actuele praktijkonderwerpen\nNa het plen
 aire gedeelte volgen 12 deelsessies in 2 rondes. Experts uit de markt\, we
 tenschap\, overheid en vanuit DGBC zelf geven je de laatste updates rondom
  actuele onderwerpen als net-zero\, Whole Life Carbon\, Europese en nation
 ale wet- en regelgeving en de Werkelijke Energie intensiteit indicator (WE
 ii). Binnenkort maken we ook het programma van de deelsessies bekend. Waar
  we je nu alvast van kunnen verzekeren is dat je na afloop van het congres
  nieuwe handvatten hebt voor het nog sneller realiseren van jouw Paris Pro
 of-ambitie.\n\nMeer informatie/aanmelden
ATTACH;FMTTYPE=image/jpeg:https://www.duurzaam-ondernemen.nl/wordpress/wp-
 content/uploads/2025/10/Banner-Paris-Proof-Congres-2025-scaled.png
CATEGORIES:Bouw/Infra &amp; Vastgoed
LOCATION:Next Nature Museum\, Noord Brabantlaan 1A\, Eindhoven\, 5652 LA\, 
 Nederland
GEO:51.443267;5.446444
X-APPLE-STRUCTURED-LOCATION;VALUE=URI;X-ADDRESS=Noord Brabantlaan 1A\, Eind
 hoven\, 5652 LA\, Nederland;X-APPLE-RADIUS=100;X-TITLE=Next Nature Museum:
 geo:51.443267,5.446444
END:VEVENT
BEGIN:VTIMEZONE
TZID:Europe/Amsterdam
X-LIC-LOCATION:Europe/Amsterdam
BEGIN:STANDARD
DTSTART:20251026T020000
TZOFFSETFROM:+0200
TZOFFSETTO:+0100
TZNAME:CET
END:STANDARD
END:VTIMEZONE
END:VCALENDAR