BEGIN:VCALENDAR
VERSION:2.0
PRODID:-//wp-events-plugin.com//7.2.3.1//EN
TZID:Europe/Amsterdam
X-WR-TIMEZONE:Europe/Amsterdam
BEGIN:VEVENT
UID:2052@duurzaam-ondernemen.nl
DTSTART;TZID=Europe/Amsterdam:20260908T110000
DTEND;TZID=Europe/Amsterdam:20260908T170000
DTSTAMP:20260331T123718Z
URL:https://www.duurzaam-ondernemen.nl/events/optimistival/
SUMMARY:Optimistival
DESCRIPTION:AFAS Software komt dit jaar met de tweede editie van Optimistiv
 al. Op dinsdag 8 september 2026 openen we van 11.00 tot 17.00 uur de deure
 n van het AFAS-festivalterrein in Leusden voor een bruisend festival vol p
 ositiviteit en praktische inzichten. Optimistival draait om alles wat leid
 t tot een betere toekomst\, voor jouw organisatie én de wereld. Je gaat n
 aar huis met tips waar je morgen al mee aan de slag kunt op het gebied van
  duurzaamheid\, vitaliteit en goed bestuur.\nWe zijn druk bezig met het sa
 menstellen van het programma\, maar hieronder alvast een voorproefje van w
 at je te wachten staat!\n\n\n 	Sessies op het gebied van duurzaamheid (gro
 en &amp\; eerlijk)\, bijvoorbeeld:\nSlimme mobiliteit\, wagenpark\, afval
  &amp\; energieverbruik en leveranciersketen.\n 	Sessies over aandacht voo
 r de mens (gezond &amp\; gelukkig)\, bijvoorbeeld:\nDigitale fitheid\, di
 versiteit en inclusie\, vitaliteit\, mentale gezondheid &amp\; talentontw
 ikkeling. \n 	Sessies over de wereld om ons heen (leuker &amp\; beter)\,
  bijvoorbeeld:\nGoed doen\, familiebedrijven &amp\; ethische kwesties.\n
  	Aandacht voor automatisering op het gebied van CSR\, zoals:\nCertificer
 ingen\, (duurzaamheids)rapportages\, vastlegging in GRC-tooling (Control F
 ramework) en voldoen aan wet- en regelgeving.\n 	Deze organisaties staan t
 e trappelen om jou te inspireren op Optimistival:\nAZ Alkmaar\, Nationaal 
 Monument Kamp Amersfoort\, De Groene Garage\, MOJO\, Slinger\, Energy Up\,
  Amerpoort &amp\; Living Libraries.\n 	Veel te beleven op het festivalter
 rein met leerzame en leuke activaties.\nMassages\, mindfullness-sessies\, 
 rondleiding door milieustraat &amp\; kennismaking met goede doelen gesteun
 d  door de AFAS Foundation.\n 	Maak kennis met de medewerkers van AFAS en
  geniet van lekkere hapjes en drankjes!\n\nMeer informatie/aanmelden
ATTACH;FMTTYPE=image/jpeg:https://www.duurzaam-ondernemen.nl/wordpress/wp-
 content/uploads/2025/09/Optimistival-2.png
CATEGORIES:Duurzaamheidsprofessionals
LOCATION:AFAS Theater Leusden\, Inspiratielaan 3\, Leusden\, Nederland
GEO:52.141884;5.421165
X-APPLE-STRUCTURED-LOCATION;VALUE=URI;X-ADDRESS=Inspiratielaan 3\, Leusden\
 , Nederland;X-APPLE-RADIUS=100;X-TITLE=AFAS Theater Leusden:geo:52.141884,
 5.421165
END:VEVENT
BEGIN:VTIMEZONE
TZID:Europe/Amsterdam
X-LIC-LOCATION:Europe/Amsterdam
BEGIN:DAYLIGHT
DTSTART:20260329T030000
TZOFFSETFROM:+0100
TZOFFSETTO:+0200
TZNAME:CEST
END:DAYLIGHT
END:VTIMEZONE
END:VCALENDAR