BEGIN:VCALENDAR
VERSION:2.0
PRODID:-//wp-events-plugin.com//7.2.3.1//EN
TZID:Europe/Amsterdam
X-WR-TIMEZONE:Europe/Amsterdam
BEGIN:VEVENT
UID:1656@duurzaam-ondernemen.nl
DTSTART;TZID=Europe/Amsterdam:20250506T073000
DTEND;TZID=Europe/Amsterdam:20250506T103000
DTSTAMP:20250311T133247Z
URL:https://www.duurzaam-ondernemen.nl/events/ontbijtsessie-investeren-met
 -impact-hoe-combineer-ik-financiele-en-duurzame-groei/
SUMMARY:Ontbijtsessie: Investeren met impact – ‘hoe combineer ik financ
 iële en duurzame groei?’
DESCRIPTION:Waarom deze sessie?\nVan Oers gelooft dat financiële groei en 
 duurzaamheid hand in hand gaan: Ondernemers met ambitie willen vooruit en 
 dat op toekomstbestendige wijze.\nDaarom organiseert Van Oers afdelingen D
 uurzaamheidsadvies en Debt &amp\; Restructuring  een ontbijtsessie om dit
  thema en de mogelijkheden daarbinnen met ondernemers te verkennen.\nHet w
 ordt een interactieve sessie over hoe investeren en een duurzame toekomst 
 samenkomen in de perspectieven People\, Planet\, Profit and Partnership. W
 ij zijn er namelijk van overtuigd dat ondernemingen alleen relevant blijve
 n door tijdig te investeren in deze vier kerngebieden.\nWat voor soort vra
 gen passeren de revue:\n\n\n 	Wat is toekomstbestendig ondernemen?\n 	Hoe 
 belangrijk is duurzaamheid voor een financier?\n 	Hoe is mijn onderneming 
 ook over 10 jaar nog relevant?\n 	Welke ontwikkelingen in wet- en regelgev
 ing omtrent duurzaamheid raken mijn strategie?\n 	Is duurzaamheid complex 
 en duur?\n 	Gaat duurzaam groeien sneller of goedkoper met extern geld?\n\
 nUiteraard is er tijdens deze sessie volop ruimte om vragen te stellen.\n\
 nVoor wie is deze sessie bestemd?\nDeze sessie bestemd voor ambitieuze MKB
  ondernemers die willen investeren in duurzame groei.\nAantal deelnemers\n
 Wij hanteren een groepsgrootte van maximaal 20 personen. Hierdoor kunt u o
 ptimaal profiteren van de kennis en ervaring van onze docent(en) en kunt u
  uw eigen praktijksituatie op een interactieve manier toetsen aan die van 
 uw collegacursisten.\nMeer informatie/inschrijven
ATTACH;FMTTYPE=image/jpeg:https://www.duurzaam-ondernemen.nl/wordpress/wp-
 content/uploads/2025/03/Investeren-met-impact.jpg
CATEGORIES:Duurzaamheidsprofessionals
LOCATION:Bovendonk Hoeven\, Hofstraat 8\, Hoeven\, 4741 AK\, Nederland
GEO:51.583548;4.580883
X-APPLE-STRUCTURED-LOCATION;VALUE=URI;X-ADDRESS=Hofstraat 8\, Hoeven\, 4741
  AK\, Nederland;X-APPLE-RADIUS=100;X-TITLE=Bovendonk Hoeven:geo:51.583548,
 4.580883
END:VEVENT
BEGIN:VTIMEZONE
TZID:Europe/Amsterdam
X-LIC-LOCATION:Europe/Amsterdam
BEGIN:DAYLIGHT
DTSTART:20250330T030000
TZOFFSETFROM:+0100
TZOFFSETTO:+0200
TZNAME:CEST
END:DAYLIGHT
END:VTIMEZONE
END:VCALENDAR