BEGIN:VCALENDAR
VERSION:2.0
PRODID:-//wp-events-plugin.com//7.2.3.1//EN
TZID:Europe/Amsterdam
X-WR-TIMEZONE:Europe/Amsterdam
BEGIN:VEVENT
UID:1871@duurzaam-ondernemen.nl
DTSTART;TZID=Europe/Amsterdam:20251121T080000
DTEND;TZID=Europe/Amsterdam:20251121T100000
DTSTAMP:20251020T085935Z
URL:https://www.duurzaam-ondernemen.nl/events/ontbijtsessie-duurzaam-rappo
 rteren-in-beweging/
SUMMARY:Ontbijtsessie: Duurzaam rapporteren in beweging
DESCRIPTION:Graag nodigt Forvis Mazars Nederland u van harte uit voor de on
 tbijtsessie ‘Duurzaam rapporteren in beweging' op 21 november 2025. Tijd
 ens deze inspirerende ochtend ontdekt u de nieuwste ontwikkelingen op het 
 gebied van duurzaam rapporteren. U krijgt waardevolle inzichten die u dire
 ct kunt toepassen in uw organisatie\, en dat alles onder het genot van een
  kop koffie of thee en een heerlijke croissant.\n\nAanmelden\nWat kunt u v
 erwachten?\nOnze sprekers praten u bij over:\n\nDuurzaamheidsontwikkelinge
 n in vogelvlucht\n\n 	EU-regelgeving: CSRD Omnibus\, CSDDD\, Clean Industr
 ial Deal\n 	Nederlandse context en impact op bedrijven\n\nDuurzaamheid als
  strategisch instrument\n\n 	Marktpositionering &amp\; concurrentievoordee
 l\n 	Reputatie: arbeidsmarkt &amp\; net zero strategie\n 	Financiering: re
 nte\, ECB &amp\; klimaatrapportage door banken\n 	Waardeketen: druk vanuit
  supply chain &amp\; gedragscode leveranciers\n\nRapportagevormen en certi
 ficering\n\n 	Van volledige CSRD tot VSME-rapportage\n 	KPI-rapportages\, 
 CO2-prestatieladder\n 	Keuzes in rapportagevormen en hun strategische waar
 de\n\nTijdens de ontbijtsessie is er volop gelegenheid om over de onderwer
 pen te discussiëren en ervaringen uit te wisselen.
ATTACH;FMTTYPE=image/jpeg:https://www.duurzaam-ondernemen.nl/wordpress/wp-
 content/uploads/2025/10/image001-27.png
CATEGORIES:Verslaggeving &amp; Transparantie
LOCATION:Forvis Mazars\, Delflandlaan 1\, Amsterdam\, 1062 EA\, Nederland
GEO:52.3571;4.840947
X-APPLE-STRUCTURED-LOCATION;VALUE=URI;X-ADDRESS=Delflandlaan 1\, Amsterdam\
 , 1062 EA\, Nederland;X-APPLE-RADIUS=100;X-TITLE=Forvis Mazars:geo:52.3571
 ,4.840947
END:VEVENT
BEGIN:VTIMEZONE
TZID:Europe/Amsterdam
X-LIC-LOCATION:Europe/Amsterdam
BEGIN:STANDARD
DTSTART:20251026T020000
TZOFFSETFROM:+0200
TZOFFSETTO:+0100
TZNAME:CET
END:STANDARD
END:VTIMEZONE
END:VCALENDAR