BEGIN:VCALENDAR
VERSION:2.0
PRODID:-//wp-events-plugin.com//7.2.3.1//EN
TZID:Europe/Amsterdam
X-WR-TIMEZONE:Europe/Amsterdam
BEGIN:VEVENT
UID:1882@duurzaam-ondernemen.nl
DTSTART;TZID=Europe/Amsterdam:20251124T193000
DTEND;TZID=Europe/Amsterdam:20251124T204500
DTSTAMP:20251115T121150Z
URL:https://www.duurzaam-ondernemen.nl/events/only-planet-theatercollege-v
 oor-ondernemers-den-bosch-en-regio/
SUMMARY:Only Planet Theatercollege voor ondernemers Den Bosch en regio
DESCRIPTION:Vanaf september volgend jaar vindt de indrukwekkende theaterbel
 evenis Only Planet plaats op de Pettelaarse Schans in ’s-Hertogenbosch. 
 In aanloop daarnaartoe wordt er op maandag 24 november 2025 om 19:30 uur 
 een Theatercollege georganiseerd in Theater aan de Parade\, vooral bedoel
 d voor ondernemers uit de regio Den Bosch/Brabant die meer willen weten ov
 er de partnershipmogelijkheden rond dit bijzondere project.\n\nTijdens de
 ze avond gaan duurzaam ondernemer Leen Zevenbergen\, klimaatspecialist T
 im van Hattum en regisseur William Spaaij in gesprek over ondernemersch
 ap\, duurzaamheid en de kracht van verbeelding. Bezoekers krijgen daarnaas
 t een exclusieve eerste preview van Only Planet\, een groots\, reizend the
 aterproject dat hoop en actie voor een leefbare toekomst centraal stelt.\n
 \nTickets zijn €28\,50\, inclusief borrel\, gratis boek van Tim van Hatt
 um en €10 voordeel op boekingen voor de voorstelling Only Planet in ’s
 -Hertogenbosch.\n\nAanmelden
ATTACH;FMTTYPE=image/jpeg:https://www.duurzaam-ondernemen.nl/wordpress/wp-
 content/uploads/2025/10/Theatercollege.png
CATEGORIES:Duurzaamheidsprofessionals,Klimaat en Energie
LOCATION:Theater aan de Parade\, Parade 23\, 's-Hertogenbosch\, 5211 KL\, N
 ederland
GEO:51.686711;5.308866
X-APPLE-STRUCTURED-LOCATION;VALUE=URI;X-ADDRESS=Parade 23\, 's-Hertogenbosc
 h\, 5211 KL\, Nederland;X-APPLE-RADIUS=100;X-TITLE=Theater aan de Parade:g
 eo:51.686711,5.308866
END:VEVENT
BEGIN:VTIMEZONE
TZID:Europe/Amsterdam
X-LIC-LOCATION:Europe/Amsterdam
BEGIN:STANDARD
DTSTART:20251026T020000
TZOFFSETFROM:+0200
TZOFFSETTO:+0100
TZNAME:CET
END:STANDARD
END:VTIMEZONE
END:VCALENDAR