BEGIN:VCALENDAR
VERSION:2.0
PRODID:-//wp-events-plugin.com//7.2.3.1//EN
TZID:Europe/Amsterdam
X-WR-TIMEZONE:Europe/Amsterdam
BEGIN:VEVENT
UID:1669@duurzaam-ondernemen.nl
DTSTART;TZID=Europe/Amsterdam:20250410T130000
DTEND;TZID=Europe/Amsterdam:20250410T140000
DTSTAMP:20250320T123031Z
URL:https://www.duurzaam-ondernemen.nl/events/online-strategiesessie-omnib
 us/
SUMMARY:Online strategiesessie Omnibus
DESCRIPTION:De Omnibus-wetgeving heeft de plannen van veel duurzaamheidsman
 agers en financials op scherp gezet. Net toen de voorbereidingen voor de C
 SRD-rapportage voor FY 2025 op gang kwamen\, kwam de EU met een voorstel d
 at het speelveld zou kunnen veranderen. Dit leidt tot nieuwe vragen\, onze
 kerheid en soms zelfs overhaaste beslissingen vanuit de boardroom.\n\nJe h
 ebt waarschijnlijk al van genoeg partijen gehoord wat er verandert. Maar
  de echte vraag is: hoe ga je hier strategisch mee om? Wat betekent deze
  wijziging voor jouw werk\, je organisatie en de duurzaamheidsrapportage d
 ie je aan het opstellen bent?\n\nStilleggen en afwachten is wat ons betref
 t geen optie. Daarom organiseren we een interactief online-evenement waari
 n we de vertaalslag maken van wetswijziging naar strategische actie.\n\nW
 at kun je verwachten?\n\nWe starten met een plenaire sessie waarin we kort
  en krachtig de essentie van de Omnibus toelichten\, inclusief de strategi
 sche kansen die hieruit voortvloeien. Vervolgens ga je in kleinere breakou
 t-sessies aan de slag met prikkelende discussievragen\, begeleid door cons
 ultants van Intire. In deze sessies verkennen we samen de impact van de we
 tswijzigingen op jouw organisatie en hoe je hier slim op inspeelt.\nNa dit
  evenement:\n\n 	Weet je hoe je duurzaamheidsrapportage strategisch kunt i
 nzetten\, ongeacht de Omnibus-wijzigingen.\n 	Heb je inzicht in hoe andere
  organisaties omgaan met deze veranderingen en welke keuzes zij maken.\n 	
 Kun je intern sterker onderbouwen waarom duurzaamheid en rapportage waarde
  blijven toevoegen\, ook als wetgeving minder dwingend wordt.\n 	Heb je co
 ncrete handvatten om gesprekken te voeren met collega’s\, management en 
 stakeholders over hoe je duurzaamheid structureel verankert in je organisa
 tie.\n\nDit event laat zien dat het werk dat je tot nu toe hebt gedaan nie
 t voor niets is geweest. Duurzaamheid gaat verder dan alleen compliance 
 – het is een strategisch instrument waarmee je je organisatie toekomstbe
 stendig maakt en concurrentievoordeel creëert.\n\nIk wil hierbij zijn!
ATTACH;FMTTYPE=image/jpeg:https://www.duurzaam-ondernemen.nl/wordpress/wp-
 content/uploads/2025/03/Online.Strategiesessie-Omnibus.png
CATEGORIES:Verslaggeving &amp; Transparantie
LOCATION:Online webinar\,  \,  \, Nederland
GEO:52.132633;5.291266
X-APPLE-STRUCTURED-LOCATION;VALUE=URI;X-ADDRESS= \,  \, Nederland;X-APPLE-R
 ADIUS=100;X-TITLE=Online webinar:geo:52.132633,5.291266
END:VEVENT
BEGIN:VTIMEZONE
TZID:Europe/Amsterdam
X-LIC-LOCATION:Europe/Amsterdam
BEGIN:DAYLIGHT
DTSTART:20250330T030000
TZOFFSETFROM:+0100
TZOFFSETTO:+0200
TZNAME:CEST
END:DAYLIGHT
END:VTIMEZONE
END:VCALENDAR