BEGIN:VCALENDAR
VERSION:2.0
PRODID:-//wp-events-plugin.com//7.2.3.1//EN
TZID:Europe/Amsterdam
X-WR-TIMEZONE:Europe/Amsterdam
BEGIN:VEVENT
UID:1890@duurzaam-ondernemen.nl
DTSTART;TZID=Europe/Amsterdam:20251124T121000
DTEND;TZID=Europe/Amsterdam:20251124T130000
DTSTAMP:20251104T094948Z
URL:https://www.duurzaam-ondernemen.nl/events/online-sessie-in-gesprek-ove
 r-duurzaam-draagvlak-krijgen-binnen-je-organisatie-2/
SUMMARY:Online sessie: "In gesprek over: duurzaam draagvlak krijgen binnen 
 je organisatie"
DESCRIPTION:In gesprek over: duurzaam draagvlak krijgen binnen je organisat
 ie\n\nJe wil écht impact maken op je werk. Misschien wil je het aantal vl
 iegreizen terugdringen\, wil je als manager je team meekrijgen met het nie
 uwe DEI-beleid\, of wil je dat het MT zich actiever inzet om duurzaamheids
 doelen te behalen. In een ideale wereld omarmt iedereen deze verandering m
 eteen. Maar in de praktijk? Dat is vaak een stuk lastiger.\n\nJe merkt dat
  je als duurzaamheidsmanager of veranderaar soms alleen aan het trekken be
 nt. Hoe zorg je dat duurzaamheid niet alleen jouw feestje blijft\, maar ie
 ts van de hele organisatie wordt?\n\nDaarover gaan we samen in gesprek tij
 dens deze interactieve online sessie van We Are Robin. Geen eenrichtingsve
 rkeer\, maar een open dialoog waarin je inzichten deelt\, vragen stelt en 
 leert van anderen die met dezelfde uitdaging worstelen.\n\nNa deze sessie 
 heb je onder andere:\n\n 	inzicht in wat er nodig is om draagvlak te creë
 ren\n 	praktische tips om collega’s mee te krijgen\n 	inspiratie uit erv
 aringen van andere professionals\n\nVoor wie is deze sessie?\nVoor iederee
 n die verduurzaming in de praktijk wil brengen – of je nuwerkt in HR\, o
 perations\, innovatie\, duurzaamheid of een andere rol waarin je veranderi
 ng wilt realiseren.\n\nVerwacht geen webinar waar je achterover leunt. Jij
  bent onderdeel van het gesprek. Samen kijken we naar wat werkt (en wat ni
 et)\, zodat jij sterker staat in jouw rol als verbinder.\n\nFacilitator: P
 eter van der Reijden\n\nAanmelden via: https://wearerobin.nl/agenda/in-ge
 sprek-over1/
ATTACH;FMTTYPE=image/jpeg:https://www.duurzaam-ondernemen.nl/wordpress/wp-
 content/uploads/2025/11/Linkedin-event-plaatjes-webinar.jpg
CATEGORIES:Duurzaamheidsprofessionals
LOCATION:Online webinar\,  \,  \, Nederland
GEO:52.132633;5.291266
X-APPLE-STRUCTURED-LOCATION;VALUE=URI;X-ADDRESS= \,  \, Nederland;X-APPLE-R
 ADIUS=100;X-TITLE=Online webinar:geo:52.132633,5.291266
END:VEVENT
BEGIN:VTIMEZONE
TZID:Europe/Amsterdam
X-LIC-LOCATION:Europe/Amsterdam
BEGIN:STANDARD
DTSTART:20251026T020000
TZOFFSETFROM:+0200
TZOFFSETTO:+0100
TZNAME:CET
END:STANDARD
END:VTIMEZONE
END:VCALENDAR