BEGIN:VCALENDAR
VERSION:2.0
PRODID:-//wp-events-plugin.com//7.2.3.1//EN
TZID:Europe/Amsterdam
X-WR-TIMEZONE:Europe/Amsterdam
BEGIN:VEVENT
UID:1939@duurzaam-ondernemen.nl
DTSTART;TZID=Europe/Amsterdam:20260120T123000
DTEND;TZID=Europe/Amsterdam:20260120T133000
DTSTAMP:20251224T073916Z
URL:https://www.duurzaam-ondernemen.nl/events/online-lunchsessie-module-su
 stainability-and-systemic-change/
SUMMARY:Online lunchsessie Module Sustainability and Systemic Change
DESCRIPTION:Wil jij als leider in jouw organisatie de omslag naar duurzaam 
 ondernemen aanjagen?\nWil jij als leider in jouw organisatie de omslag naa
 r duurzaam ondernemen aanjagen? Ben je op zoek naar handvatten om nieuwe k
 ansen op dit gebied te initiëren of adequaat te reageren op ontwrichtende
  innovaties? In de module Sustainability &amp\; Systemic Change ga je hier
  praktijkgericht mee aan de slag.\nOp dinsdag 20 januari geven kerndocente
 n Nicolas Chevrollier en André Nijhof een exclusief kijkje in de module S
 ustainability and Systemic Change. Maak kennis met de kerndocenten en ontd
 ek of studeren bij Nyenrode Business Universiteit bij je past.\nAanmelden\
 n
ATTACH;FMTTYPE=image/jpeg:https://www.duurzaam-ondernemen.nl/wordpress/wp-
 content/uploads/2025/12/Duurzaam-ondernemen-Banner-event-800-x-460-px-3.pn
 g
CATEGORIES:Duurzaamheidsprofessionals
LOCATION:Online webinar\,  \,  \, Nederland
GEO:52.132633;5.291266
X-APPLE-STRUCTURED-LOCATION;VALUE=URI;X-ADDRESS= \,  \, Nederland;X-APPLE-R
 ADIUS=100;X-TITLE=Online webinar:geo:52.132633,5.291266
END:VEVENT
BEGIN:VTIMEZONE
TZID:Europe/Amsterdam
X-LIC-LOCATION:Europe/Amsterdam
BEGIN:STANDARD
DTSTART:20251026T020000
TZOFFSETFROM:+0200
TZOFFSETTO:+0100
TZNAME:CET
END:STANDARD
END:VTIMEZONE
END:VCALENDAR