BEGIN:VCALENDAR
VERSION:2.0
PRODID:-//wp-events-plugin.com//7.2.3.1//EN
TZID:Europe/Amsterdam
X-WR-TIMEZONE:Europe/Amsterdam
BEGIN:VEVENT
UID:1867@duurzaam-ondernemen.nl
DTSTART;TZID=Europe/Amsterdam:20251113T153000
DTEND;TZID=Europe/Amsterdam:20251113T171500
DTSTAMP:20251017T103343Z
URL:https://www.duurzaam-ondernemen.nl/events/online-inspiratiesessie-modu
 lair-executive-mba-incl-business-and-sustainable-transitions-track/
SUMMARY:Online inspiratiesessie Modulair Executive MBA (incl. Business and 
 Sustainable Transitions track)
DESCRIPTION:Met de Modulair Executive MBA Business and Sustainable Transiti
 ons van Nyenrode volg je een Executive MBA naast je baan en wanneer het jo
 u uitkomt. Je ontwikkelt je leiderschapsvaardigheden en groeit persoonlijk
  en professioneel in de materie van bedrijfskunde en management. De MBA be
 staat uit 10 modules\, die ook los te volgen zijn. Met de Business and Sus
 tainable Transitions track ontwikkel je jezelf tot leider in duurzame tran
 sities en waardecreatie in jouw bedrijf of organisatie.\nWil je weten of d
 e Modulair Executive MBA of één van de losse modules bij jou past? Ontde
 k het tijdens de online belevingssessie op donderdag 13 november.\n\nTijd
 ens de online belevingssessie maak je kennis met een aantal deelnemers van
  het MBA programma. Hoe ervaren zij het volgen van de modules naast hun we
 rk en privéleven? En wat is de impact van de nieuwe kennis op hun werk? J
 e krijgt antwoord op alle vragen tijdens een Q&amp\;A. Maak kennis met he
 t Modulair MBA-programma en ontdek of Nyenrode bij jouw ambitie en ontwik
 keling past.\n\nMeer informatie/aanmelden
ATTACH;FMTTYPE=image/jpeg:https://www.duurzaam-ondernemen.nl/wordpress/wp-
 content/uploads/2025/10/Duurzaam-ondernemen-Banner-event-800-x-460-px-1-1.
 png
CATEGORIES:Duurzaamheidsprofessionals
LOCATION:\, \, Nederland
X-APPLE-STRUCTURED-LOCATION;VALUE=URI;X-ADDRESS=\, Nederland;X-APPLE-RADIUS
 =100;X-TITLE=:geo:0,0
END:VEVENT
BEGIN:VTIMEZONE
TZID:Europe/Amsterdam
X-LIC-LOCATION:Europe/Amsterdam
BEGIN:STANDARD
DTSTART:20251026T020000
TZOFFSETFROM:+0200
TZOFFSETTO:+0100
TZNAME:CET
END:STANDARD
END:VTIMEZONE
END:VCALENDAR