BEGIN:VCALENDAR
VERSION:2.0
PRODID:-//wp-events-plugin.com//7.2.3.1//EN
TZID:Europe/Amsterdam
X-WR-TIMEZONE:Europe/Amsterdam
BEGIN:VEVENT
UID:1889@duurzaam-ondernemen.nl
DTSTART;TZID=Europe/Amsterdam:20260114T190000
DTEND;TZID=Europe/Amsterdam:20260114T194500
DTSTAMP:20251115T121332Z
URL:https://www.duurzaam-ondernemen.nl/events/online-infosessie-executive-
 programma-esg-value-start-maart-2026-2/
SUMMARY:Online Infosessie | Executive programma ESG Value (start maart 2026
 )
DESCRIPTION:Over de opleiding ESG Value\nWord deskundig op strategische waa
 rdecreatie en de sturing en verantwoording daarvan met de executive opleid
 ing ESG Value van de University of Groningen Business School.\n\nVoor onde
 rnemingen blijft langetermijnwaardecreatie cruciaal\, ondanks dat de Europ
 ese regelgeving over verplichte duurzaamheidsrapportage is uitgesteld!\n\n
 Wilt u weten:\n\n 	wat het belang is van duurzaamheid voor een onderneming
  en waarom u ermee zou beginnen\n 	wat de impact is op de strategie\, inte
 rne monitoring en financiën\n 	waarom u erover zou rapporteren\n\nKies da
 n de opleiding ESG Value\n\nStart: 25 maart 2026\nDuur: 3x2 cursusdagen 
 op locatie\, met overnachtingen\nLocatie: Landgoed ISVW te Leusden\nInves
 tering: € 5.950\,- (inclusief 3 overnachtingen)\n\nGa naar de opleidin
 gswebsite om meer te lezen en uw brochure met het uitgebreide programma t
 e downloaden of u aan te melden voor de vrijblijvende online infosessie.\n
 \nAanmelden voor de Online Infosessie
ATTACH;FMTTYPE=image/jpeg:https://www.duurzaam-ondernemen.nl/wordpress/wp-
 content/uploads/2025/10/ESGV-web-logo-1.png
CATEGORIES:Duurzaamheidsprofessionals,Verslaggeving &amp; Transparantie
LOCATION:Online webinar\,  \,  \, Nederland
GEO:52.132633;5.291266
X-APPLE-STRUCTURED-LOCATION;VALUE=URI;X-ADDRESS= \,  \, Nederland;X-APPLE-R
 ADIUS=100;X-TITLE=Online webinar:geo:52.132633,5.291266
END:VEVENT
BEGIN:VTIMEZONE
TZID:Europe/Amsterdam
X-LIC-LOCATION:Europe/Amsterdam
BEGIN:STANDARD
DTSTART:20251026T020000
TZOFFSETFROM:+0200
TZOFFSETTO:+0100
TZNAME:CET
END:STANDARD
END:VTIMEZONE
END:VCALENDAR