BEGIN:VCALENDAR
VERSION:2.0
PRODID:-//wp-events-plugin.com//7.2.3.1//EN
TZID:Europe/Amsterdam
X-WR-TIMEZONE:Europe/Amsterdam
BEGIN:VEVENT
UID:1299@duurzaam-ondernemen.nl
DTSTART;TZID=Europe/Amsterdam:20240410T170000
DTEND;TZID=Europe/Amsterdam:20240410T173000
DTSTAMP:20240322T121347Z
URL:https://www.duurzaam-ondernemen.nl/events/online-belevingssessie-esg-f
 or-boards/
SUMMARY:Online belevingssessie | ESG for Boards
DESCRIPTION:\n\n\nHet programma ESG for Boards verrijkt je kennis en inzic
 ht over ESG en biedt handelingsperspectief met betrekking tot vragen en di
 lemma’s\, welke van een orde grootte zijn dat weinig bestuurders en toez
 ichthouders er eerder mee zijn geconfronteerd.\n\nHeb jij als bestuurder o
 f toezichthouder vragen over de inhoud\, het nut en de noodzaak van deze r
 egelgeving? Worstel je met vragen en dilemma’s over hoe je effectief om 
 kan gaan met de implementatie ervan? Of zoek je naar waar de kansen liggen
  bijvoorbeeld voor het tijdig ontwikkelen van nieuw businessmodel\; het ve
 rsterken van de marktpositie of het zijn van een aantrekkelijke werkgever 
 voor de nieuwe generaties?\n\nTijdens de online belevingssessie vertelt de
  programma-manager alles over het programma en kan je al jouw vragen stell
 en.\n\n\n\n\nBen je nieuwsgierig naar ESG for Boards? Kom dan op woensdag 
 10 april 2024 naar de online belevingssessie. Je kunt je hier aanmelden\nB
 oard Essentials\n\n\nAls bestuurder of commissaris moet je altijd up to da
 te zijn van de actualiteit. Daarom heeft Nyenrode Business Universiteit de
  nieuwe serie 'Board Essentials' ontwikkeld. Permanente Educatie waarmee j
 ij je als bestuurder of commissaris kan verdiepen in de actuele thema’s 
 die in de boardroom spelen.\n\n&nbsp\;
ATTACH;FMTTYPE=image/jpeg:https://www.duurzaam-ondernemen.nl/wordpress/wp-
 content/uploads/2024/03/esgboards.jpeg
CATEGORIES:Duurzaamheidsprofessionals
END:VEVENT
BEGIN:VTIMEZONE
TZID:Europe/Amsterdam
X-LIC-LOCATION:Europe/Amsterdam
BEGIN:DAYLIGHT
DTSTART:20240331T030000
TZOFFSETFROM:+0100
TZOFFSETTO:+0200
TZNAME:CEST
END:DAYLIGHT
END:VTIMEZONE
END:VCALENDAR