BEGIN:VCALENDAR
VERSION:2.0
PRODID:-//wp-events-plugin.com//7.2.3.1//EN
TZID:Europe/Amsterdam
X-WR-TIMEZONE:Europe/Amsterdam
BEGIN:VEVENT
UID:1928@duurzaam-ondernemen.nl
DTSTART;TZID=Europe/Amsterdam:20260618T100000
DTEND;TZID=Europe/Amsterdam:20260618T170000
DTSTAMP:20260311T154150Z
URL:https://www.duurzaam-ondernemen.nl/events/new-energy-forum-2026/
SUMMARY:New Energy Forum 2026
DESCRIPTION:De zesde editie van het New Energy Forum is hét festival voor 
 (aankomende) mobiliteits- en energieprofessionals. Professionals\, onderne
 mers\, studenten\, docenten\, onderzoekers en beleidsmedewerkers vinden el
 kaar op het leukste festival over mobiliteit\, energietransitie en duurzaa
 mheid in Noord-Nederland.\nWat doe jij?\nNew Energy Forum is geen standaar
 d congres\, maar een beweging. Een plek waar je wordt verrast door nieuwe 
 perspectieven\, verbonden raakt door echte gesprekken en wordt aangezet to
 t concrete actie. De energietransitie vraagt namelijk niet alleen om nieuw
 e technologie\, maar ook om mensen die durven denken én doen. Op 18 juni 
 2026 komen deze ingrediënten samen tijdens New Energy Forum 2026.\n\nDit 
 jaar draait alles om jou. Jouw keuzes. Jouw impact.\nWat kun je verwachten
 ?\nTijdens New Energy Forum verbinden we doeners\, denkers en durvers. We 
 verbazen met nieuwe perspectieven en praktijkvoorbeelden die laten zien da
 t het anders kan. En we versnellen door samen concrete stappen te zetten r
 ichting een duurzame toekomst.\n\nOp de proeftuin Entrance vind je ook dit
  jaar weer inspirerende keynotes\, scherpe debatten\, interactieve sessies
  en energieke workshops. De organisatie is op dit moment druk bezig met de
  invulling\, maar drie namen kunnen we al wel verklappen:\n\n 	Pieter Jouk
 e\, schrijver en meester in het fileermes van de actualiteit. Met zijn sch
 erpe blik weet hij complexe thema’s verrassend licht en inzichtelijk te 
 maken. Op NEF deelt hij zijn visie over een duurzame toekomst met ons.\n 	
 Aniek Moonen\, staat voor een nieuwe generatie klimaatleiders: verbindend\
 , inhoudelijk sterk en gericht op actie. Met haar ervaring in het mobilise
 ren van jongeren en het samenwerken met bedrijfsleven en overheid brengt z
 ij een scherp en hoopvol perspectief op de energietransitie.\n 	Floor Mili
 kowski\, journalist en auteur\, gespecialiseerd in de toekomst van onze st
 eden en regio’s. In haar werk onderzoekt ze hoe grote transities\, van e
 nergie tot economie\, lokaal vorm krijgen en wat dat betekent voor gemeens
 chappen.\n\n&nbsp\;\n\nMeer informatie
ATTACH;FMTTYPE=image/jpeg:https://www.duurzaam-ondernemen.nl/wordpress/wp-
 content/uploads/2025/12/nef2026.jpg
CATEGORIES:Klimaat en Energie
END:VEVENT
BEGIN:VTIMEZONE
TZID:Europe/Amsterdam
X-LIC-LOCATION:Europe/Amsterdam
BEGIN:DAYLIGHT
DTSTART:20260329T030000
TZOFFSETFROM:+0100
TZOFFSETTO:+0200
TZNAME:CEST
END:DAYLIGHT
END:VTIMEZONE
END:VCALENDAR