BEGIN:VCALENDAR
VERSION:2.0
PRODID:-//wp-events-plugin.com//7.2.3.1//EN
TZID:Europe/Amsterdam
X-WR-TIMEZONE:Europe/Amsterdam
BEGIN:VEVENT
UID:1880@duurzaam-ondernemen.nl
DTSTART;TZID=Europe/Amsterdam:20251209T130000
DTEND;TZID=Europe/Amsterdam:20251209T173000
DTSTAMP:20251023T092855Z
URL:https://www.duurzaam-ondernemen.nl/events/ncp-bijeenkomst-verantwoord-
 ondernemen-in-conflict-en-risicogebieden-wat-komt-erbij-kijken/
SUMMARY:NCP-bijeenkomst: 'Verantwoord ondernemen in conflict- en risicogebi
 eden: wat komt erbij kijken?'
DESCRIPTION:Het OESO Nationaal Contactpunt voor verantwoord ondernemen orga
 niseert op dinsdagmiddag 9 december 2025 een Themabijeenkomst over verant
 woord ondernemen in conflict- en risicogebieden. Tijdens deze middag staat
  centraal hoe bedrijven kunnen omgaan met verhoogde risico’s in hun bedr
 ijfsactiviteiten of waardeketen\, bijvoorbeeld door een hogere kans op con
 flict of mensenrechtenschendingen in het gebied waar zij opereren.\n\nDe b
 ijeenkomst biedt inzicht in wat de OESO-richtlijnen en andere relevante st
 andaarden van bedrijven vragen in conflict- en risicogebieden\, en hoe ‘
 enhanced due diligence’ in de praktijk wordt toegepast. Ook komt aan bod
  wat bedrijven kunnen doen als risico’s niet langer beheersbaar zijn en 
 terugtrekking uit een gebied nodig is. Sprekers van onder meer de OESO\, m
 eerdere bedrijven\, een financiële instelling\, een NGO en een vakbond de
 len hun ervaringen en lessen uit de praktijk.\n\nDe Themabijeenkomst richt
  zich op kennisdeling\, dialoog en praktische inzichten. Deelnemers krijge
 n concrete voorbeelden en handvatten om verantwoord te ondernemen in compl
 exe contexten en beter voorbereid te zijn op risico’s in hun waardeketen
 .\nOver NCP Themabijeenkomsten\nDe NCP Themabijeenkomsten brengen bedrijve
 n\, NGO’s en andere organisaties met interesse in internationaal maatsch
 appelijk verantwoord ondernemen en de OESO-richtlijnen bij elkaar. Het doe
 l is om kennis te delen\, ervaringen uit te wisselen en samen te werken aa
 n het toepassen van de OESO-richtlijnen in de praktijk.\nProgramma\n\n\n\n
 Tijdstip\nOnderdeel\n\n\n13:00\nInloop\n\n\n13:30\nOpening\nWelkomstwoord 
 door de dagvoorzitter en door Catelene Passchier\, voorzitter OESO Nationa
 al Contactpunt (NCP) voor verantwoord ondernemen.\n\n\n13:40\nHet OESO Nat
 ionaal Contactpunt: wat en waarom?\n\nEen introductie over het geschillenm
 echanisme van het NCP\, met voorbeelden van klachten die eerder zijn inged
 iend door NGO’s of vakbonden tegen bedrijven of financiële instellingen
 . Ook wordt uitgelegd hoe deze procedures zijn verlopen.\n\n\n13:55\nZaken
 doen in conflict- en risicogebieden: wat wordt van bedrijven verwacht? (En
 gelstalig)\n\nIn sommige gebieden kunnen bedrijfsactiviteiten meer risico
 ’s met zich meebrengen voor de omgeving of in de toeleveringsketen\, bij
 voorbeeld door verhoogde kans op dwangarbeid\, milieuvervuiling\, corrupti
 e of gewapend conflict. De OESO geeft bedrijven extra richtlijnen voor dit
  soort situaties. In deze sessie\, met de OESO en UNDP\, komt aan bod:\n\n
 • Wat verwachten de OESO-richtlijnen van bedrijven in conflict- en risic
 ogebieden?\n• Wat zegt Europese wetgeving hierover?\n• Wat moeten bedr
 ijven weten van het internationaal humanitair recht?\n• Welke stappen ho
 ren bij ‘enhanced due diligence’?\n\nDe OESO en UNDP zetten het op een
  rij!\n\n\n14:30\nDe praktijk: hoe geven bedrijven invulling aan ‘verhoo
 gde due diligence’ verwachtingen? (Engelstalig)\n\nTwee ervaringsdeskund
 igen delen hoe zij internationale richtlijnen en wetgeving vertaalden naar
  de praktijk van ondernemen in conflictgebieden. Ze lichten toe welke stap
 pen nodig zijn voor een goede ‘enhanced due diligence’-aanpak en bespr
 eken de dilemma’s die daarbij horen. Hoe weet je of je actief bent in ee
 n risicogebied? Welke informatie kun je vertrouwen? En hoe vind je de bala
 ns tussen positieve impact\, zoals het creëren van banen\, en het beperke
 n van negatieve gevolgen?\n\n\n15:15\nPauze met koffie en thee\n\n\n15.45\
 nPaneldiscussie over Responsible Disengagement\n\nSoms zijn risico’s ni
 et meer te beheersen. Een bedrijf kan dan besluiten een contract met toele
 verancier te beëindigen\, een fabriek of individuele productielijn te slu
 iten\, of zich helemaal terug te trekken uit een land10. Ook hiervoor geve
 n de OESO-richtlijnen handvatten en bestaan er goede praktijkvoorbeelden. 
 In dit panel delen een maatschappelijke organisatie\, een bedrijf\, een va
 kbond en een investeringsinstelling hun perspectieven.\n\n\n16:35\nAfsluit
 ing door NCP-lid\n\n\n16:50\nBorrel\n\n\n\nAanmelden
ATTACH;FMTTYPE=image/jpeg:https://www.duurzaam-ondernemen.nl/wordpress/wp-
 content/uploads/2025/10/sponsible-mining-Conflict-minerals-web.jpg
CATEGORIES:Duurzaamheidsprofessionals
LOCATION:Ministerie van Buitenlandse Zaken\, Rijnstraat 8\, Den Haag\, 2515
  XP\, Nederland
GEO:52.080347;4.322871
X-APPLE-STRUCTURED-LOCATION;VALUE=URI;X-ADDRESS=Rijnstraat 8\, Den Haag\, 2
 515 XP\, Nederland;X-APPLE-RADIUS=100;X-TITLE=Ministerie van Buitenlandse 
 Zaken:geo:52.080347,4.322871
END:VEVENT
BEGIN:VTIMEZONE
TZID:Europe/Amsterdam
X-LIC-LOCATION:Europe/Amsterdam
BEGIN:STANDARD
DTSTART:20251026T020000
TZOFFSETFROM:+0200
TZOFFSETTO:+0100
TZNAME:CET
END:STANDARD
END:VTIMEZONE
END:VCALENDAR