BEGIN:VCALENDAR
VERSION:2.0
PRODID:-//wp-events-plugin.com//7.2.3.1//EN
TZID:Europe/Amsterdam
X-WR-TIMEZONE:Europe/Amsterdam
BEGIN:VEVENT
UID:2040@duurzaam-ondernemen.nl
DTSTART;TZID=Europe/Amsterdam:20260616T090000
DTEND;TZID=Europe/Amsterdam:20260616T183000
DTSTAMP:20260324T094044Z
URL:https://www.duurzaam-ondernemen.nl/events/nationale-top-natuurlijke-ko
 olstofvastlegging/
SUMMARY:Nationale Top Natuurlijke Koolstofvastlegging
DESCRIPTION:Op dinsdag 16 juni 2026 organiseert Stichting Climate Cleanup d
 e Nationale Top Natuurlijke Koolstofvastlegging. Na een eerdere succesvol
 le koolstofvastleggingstafel vormt deze bijeenkomst het nationale vervolg 
 om natuurlijke oplossingen voor klimaat en ecosysteemherstel verder op te 
 schalen.\n\nTijdens deze dynamische dag komen beleidsmakers\, ondernemers\
 , wetenschappers\, investeerders en praktijkexperts samen met ministeries\
 , provincies\, gemeenten en andere overheden. Samen verkennen zij hoe car
 bon dioxide removal (CDR) via natuurgebaseerde oplossingen in Nederland v
 ersneld kan worden ontwikkeld en toegepast.\n\nDe conferentie vindt plaats
  op een fantastische locatie midden in de natuur. Naast het inhoudelijke 
 programma is er een markt met stands waar organisaties\, initiatieven en
  bedrijven hun projecten\, oplossingen en samenwerkingsmogelijkheden prese
 nteren.\nSamen bouwen aan opschaling\nDeze conferentie brengt beleidsmake
 rs\, ondernemers\, wetenschappers\, marktleiders en initiatiefnemers same
 n die aan deze beweging bouwen. Ook ministeries\, provincies\, gemeenten 
 en andere overheden zijn aanwezig om samen met marktpartijen en kennisins
 tellingen te verkennen hoe natuurlijke koolstofvastlegging verder kan word
 en opgeschaald. Het is een plek om kennis te delen\, nieuwe inzichten op t
 e doen\, kansen te verkennen en samenwerkingen te versterken. Want de tran
 sitie naar een regeneratieve economie vraagt om goede ideeën\, maar ook o
 m sterke verbindingen tussen praktijk\, beleid en markt.\n\nCentraal staa
 t de vraag:\n\nHoe kunnen we natuurlijke koolstofvastlegging in Nederland 
 opschalen op een manier die werkt voor klimaat\, natuur én samenleving?\n
 \nMet inspirerende voorbeelden\, inhoudelijke verdieping en ruimte voor on
 tmoeting bouwen we samen verder aan oplossingen die ecosystemen herstellen
  én economische waarde creëren.\n\nMeer informatie/aanmelden
ATTACH;FMTTYPE=image/jpeg:https://www.duurzaam-ondernemen.nl/wordpress/wp-
 content/uploads/2026/03/unnamed-58.png
CATEGORIES:Klimaat en Energie
LOCATION:Jardin d’Hiverre (Rijkskwekerij)\, Zandheuvelweg 7\, Baarn\, 374
 4 MN\, Nederland
GEO:52.220632;5.237738
X-APPLE-STRUCTURED-LOCATION;VALUE=URI;X-ADDRESS=Zandheuvelweg 7\, Baarn\, 3
 744 MN\, Nederland;X-APPLE-RADIUS=100;X-TITLE=Jardin d’Hiverre (Rijkskwe
 kerij):geo:52.220632,5.237738
END:VEVENT
BEGIN:VTIMEZONE
TZID:Europe/Amsterdam
X-LIC-LOCATION:Europe/Amsterdam
BEGIN:DAYLIGHT
DTSTART:20260329T030000
TZOFFSETFROM:+0100
TZOFFSETTO:+0200
TZNAME:CEST
END:DAYLIGHT
END:VTIMEZONE
END:VCALENDAR