BEGIN:VCALENDAR
VERSION:2.0
PRODID:-//wp-events-plugin.com//7.2.3.1//EN
TZID:Europe/Amsterdam
X-WR-TIMEZONE:Europe/Amsterdam
BEGIN:VEVENT
UID:2046@duurzaam-ondernemen.nl
DTSTART;TZID=Europe/Amsterdam:20260519T133000
DTEND;TZID=Europe/Amsterdam:20260519T170000
DTSTAMP:20260330T083902Z
URL:https://www.duurzaam-ondernemen.nl/events/nationale-industriedialoog-d
 uurzame-investeringen/
SUMMARY:Nationale Industriedialoog Duurzame Investeringen
DESCRIPTION:Wilt u weten waarom duurzame investeringen in de industrie soms
  vertraging oplopen? Meld u dan aan voor deze bijeenkomst. U gaat in gespr
 ek met bedrijven\, financiële instellingen en overheden over verschillend
 e afwegingen en oplossingen.\nVoor wie?\nBent u CEO\, CFO\, COO of een and
 ere financiële of technische beslisser bij een industrieel bedrijf dat ve
 el energie gebruikt? Dan is deze bijeenkomst interessant voor u.\nWat kunt
  u verwachten?\nTijdens deze bijeenkomst gaat u in gesprek en hoort u meer
  over de volgende onderwerpen:\n\n 	Inzicht in de route van plan naar defi
 nitieve investering.\n 	Inzicht in de afwegingen die organisaties maken bi
 j duurzame investeringen in de industrie.\n 	Oplossingen om investeringen 
 sneller van plan naar uitvoering te brengen.\n 	Voorbeelden van investerin
 gsproducten voor duurzame projecten.\n 	Informatie over financiële stimul
 ering in verschillende fasen van duurzame innovatie.\n\nProgramma\n\n 	13:
 30 uur Welkom en opening\n 	13:50 uur Pitch: investeringen in duurzame sui
 kerproductie\n 	14:00 uur Talkshow ronde 1: grote bedrijven groen maken\n 
 	14:30 uur Pitch: verduurzamen zonder zelf te investeren\n 	14:35 uur Door
 praten met tafel en publiek over pitch\n 	14:50 uur Pauze\n 	15:15 uur Tal
 kshow ronde 2: groene bedrijven groot maken\n 	15:20 uur Pitch duurzame ni
 euwkomer\n 	15:30 uur Rondetafelgesprek\n 	16:00 uur Pitch overheid\n 	16:
 10 uur Doorpraten met tafel over pitch\n 	16:45 uur Afronding en conclusie
 s\n 	17:00 uur Einde en borrel\n\n\nAanmelden
ATTACH;FMTTYPE=image/jpeg:https://www.duurzaam-ondernemen.nl/wordpress/wp-
 content/uploads/2026/03/Industrie_2400.webp
CATEGORIES:Duurzaamheidsprofessionals,Klimaat en Energie
LOCATION:FME\, Zilverstraat 69\, Zoetermeer\, 2718 RP\, Nederland
GEO:52.043365;4.505892
X-APPLE-STRUCTURED-LOCATION;VALUE=URI;X-ADDRESS=Zilverstraat 69\, Zoetermee
 r\, 2718 RP\, Nederland;X-APPLE-RADIUS=100;X-TITLE=FME:geo:52.043365,4.505
 892
END:VEVENT
BEGIN:VTIMEZONE
TZID:Europe/Amsterdam
X-LIC-LOCATION:Europe/Amsterdam
BEGIN:DAYLIGHT
DTSTART:20260329T030000
TZOFFSETFROM:+0100
TZOFFSETTO:+0200
TZNAME:CEST
END:DAYLIGHT
END:VTIMEZONE
END:VCALENDAR