BEGIN:VCALENDAR
VERSION:2.0
PRODID:-//wp-events-plugin.com//7.2.3.1//EN
TZID:Europe/Amsterdam
X-WR-TIMEZONE:Europe/Amsterdam
BEGIN:VEVENT
UID:1938@duurzaam-ondernemen.nl
DTSTART;TZID=Europe/Amsterdam:20260115T160000
DTEND;TZID=Europe/Amsterdam:20260115T193000
DTSTAMP:20251224T123456Z
URL:https://www.duurzaam-ondernemen.nl/events/modulair-mba-open-avond-2/
SUMMARY:Modulair Executive MBA – Open avond
DESCRIPTION:Kom sfeer proeven op Nyenrode tijdens de open avond van de Modu
 lair Executive MBA Business and Sustainable Transitions.\nMet de Modulair 
 Executive MBA van Nyenrode volg je een Executive MBA naast je baan en wann
 eer het jou uitkomt. Je ontwikkelt je leiderschapsvaardigheden en groeit p
 ersoonlijk en professioneel in de materie van bedrijfskunde en management 
 en duurzame transities. De MBA bestaat uit 10 modules\, die ook los te vol
 gen zijn.\nWil je weten of de Modulair Executive MBA bij jou past? Of heb 
 je interesse in het volgen van een specifieke module op het gebied van duu
 rzaamheid of transitieleer? Ontdek of studeren aan Nyenrode bij je past op
  de open avond van donderdag 15 januari 2026.\nAanmelden\n
ATTACH;FMTTYPE=image/jpeg:https://www.duurzaam-ondernemen.nl/wordpress/wp-
 content/uploads/2025/12/Duurzaam-ondernemen-Banner-event-800-x-460-px-2.pn
 g
CATEGORIES:Duurzaamheidsprofessionals
LOCATION:Nyenrode Business Universiteit\, Straatweg 25\, Nijenrode\, 3621 B
 G\, Nederland
GEO:52.16165;5.004905
X-APPLE-STRUCTURED-LOCATION;VALUE=URI;X-ADDRESS=Straatweg 25\, Nijenrode\, 
 3621 BG\, Nederland;X-APPLE-RADIUS=100;X-TITLE=Nyenrode Business Universit
 eit:geo:52.16165,5.004905
END:VEVENT
BEGIN:VTIMEZONE
TZID:Europe/Amsterdam
X-LIC-LOCATION:Europe/Amsterdam
BEGIN:STANDARD
DTSTART:20251026T020000
TZOFFSETFROM:+0200
TZOFFSETTO:+0100
TZNAME:CET
END:STANDARD
END:VTIMEZONE
END:VCALENDAR