BEGIN:VCALENDAR
VERSION:2.0
PRODID:-//wp-events-plugin.com//7.2.3.1//EN
TZID:Europe/Amsterdam
X-WR-TIMEZONE:Europe/Amsterdam
BEGIN:VEVENT
UID:1636@duurzaam-ondernemen.nl
DTSTART;TZID=Europe/Amsterdam:20250305T150000
DTEND;TZID=Europe/Amsterdam:20250305T160000
DTSTAMP:20250228T104200Z
URL:https://www.duurzaam-ondernemen.nl/events/meer-impact-met-de-inner-dev
 elopment-goals-online-kennismakink/
SUMMARY:Meer impact met de Inner Development Goals - Online Kennismaking
DESCRIPTION:Ben jij verantwoordelijk voor de SDG’s of ‘duurzaamheid’ 
 binnen jouw organisatie? Loop jij regelmatig vast in het realiseren ervan 
 en zoek je naar nieuwe wegen om effectiever bij te dragen aan de SDG’s v
 an jouw organisatie? Ben je bereid je eigen handelingsperspectief te onder
 zoeken en te veranderen?\n\nDan kunnen de Inner Development Goals je daarb
 ij helpen.\n\nIn dit uur maak je kennis met de Inner Development Goals. We
  presenteren kort de IDG's en gaan aan de slag\, met jullie en de eigen pr
 aktijkcases. Zodat je zelf gevoel krijgt voor de IDG's en de manier waarop
  ze je helpen om binnen je eigen werk iets nieuws te proberen.\n\nHet word
 t dus géén webinar maar een interactieve bijeenkomst in subgroepen. Lere
 n doe je beter door te doen. Kennismaken ook\n\nDeelname is gratis. Je ont
 vangt vlak van te voren een Zoom link.\n\nAanmelden
ATTACH;FMTTYPE=image/jpeg:https://www.duurzaam-ondernemen.nl/wordpress/wp-
 content/uploads/2025/02/banner_change.png
CATEGORIES:Duurzaamheidsprofessionals,Sustainable Development Goals
LOCATION:Online webinar\,  \,  \, Nederland
GEO:52.132633;5.291266
X-APPLE-STRUCTURED-LOCATION;VALUE=URI;X-ADDRESS= \,  \, Nederland;X-APPLE-R
 ADIUS=100;X-TITLE=Online webinar:geo:52.132633,5.291266
END:VEVENT
BEGIN:VTIMEZONE
TZID:Europe/Amsterdam
X-LIC-LOCATION:Europe/Amsterdam
BEGIN:STANDARD
DTSTART:20241027T020000
TZOFFSETFROM:+0200
TZOFFSETTO:+0100
TZNAME:CET
END:STANDARD
END:VTIMEZONE
END:VCALENDAR