BEGIN:VCALENDAR
VERSION:2.0
PRODID:-//wp-events-plugin.com//7.2.3.1//EN
TZID:Europe/Amsterdam
X-WR-TIMEZONE:Europe/Amsterdam
BEGIN:VEVENT
UID:1651@duurzaam-ondernemen.nl
DTSTART;TZID=Europe/Amsterdam:20250313T155500
DTEND;TZID=Europe/Amsterdam:20250313T170000
DTSTAMP:20250307T103549Z
URL:https://www.duurzaam-ondernemen.nl/events/meer-impact-met-de-inner-dev
 elopment-goals-online-kennismaking/
SUMMARY:Meer impact met de Inner Development Goals - Online Kennismaking
DESCRIPTION:Ben jij verantwoordelijk voor de SDG’s of ‘duurzaamheid’ 
 binnen jouw organisatie? Loop jij regelmatig vast in het realiseren ervan 
 en zoek je naar nieuwe wegen om effectiever bij te dragen aan de SDG’s v
 an jouw organisatie? Ben je bereid je eigen handelingsperspectief te onder
 zoeken en te veranderen? Dan kunnen de Inner Development Goals je daarbij 
 helpen.\n\nIn dit uur maak je kennis met de Inner Development Goals. We pr
 esenteren kort de IDG's en gaan aan de slag\, met jullie en je eigen prakt
 ijkcases. Zodat je zelf gevoel krijgt voor de IDG's en de manier waarop ze
  je helpen om binnen je eigen werk iets nieuws te proberen.\n\nHet wordt d
 us géén webinar maar een interactieve bijeenkomst in subgroepen. Leren d
 oe je beter door te doen. Kennismaken ook.\n\nDeelname is gratis. Als je a
 anmeld\, dan ontvang je een paar dagen vantevoren een mail met informatie 
 en 2 links\, een voor de Zoom-meeting en eentje voor de Padlet.\nEr is een
  korte voorbereiding gewenst (ongeveer 10-15min) op Padlet.\n\nAanmelden
ATTACH;FMTTYPE=image/jpeg:https://www.duurzaam-ondernemen.nl/wordpress/wp-
 content/uploads/2025/02/banner_change.png
CATEGORIES:Duurzaamheidsprofessionals,Sustainable Development Goals
LOCATION:Online webinar\,  \,  \, Nederland
GEO:52.132633;5.291266
X-APPLE-STRUCTURED-LOCATION;VALUE=URI;X-ADDRESS= \,  \, Nederland;X-APPLE-R
 ADIUS=100;X-TITLE=Online webinar:geo:52.132633,5.291266
END:VEVENT
BEGIN:VTIMEZONE
TZID:Europe/Amsterdam
X-LIC-LOCATION:Europe/Amsterdam
BEGIN:STANDARD
DTSTART:20241027T020000
TZOFFSETFROM:+0200
TZOFFSETTO:+0100
TZNAME:CET
END:STANDARD
END:VTIMEZONE
END:VCALENDAR