BEGIN:VCALENDAR
VERSION:2.0
PRODID:-//wp-events-plugin.com//7.2.3.1//EN
TZID:Europe/Amsterdam
X-WR-TIMEZONE:Europe/Amsterdam
BEGIN:VEVENT
UID:1926@duurzaam-ondernemen.nl
DTSTART;TZID=Europe/Amsterdam:20260304T100000
DTEND;TZID=Europe/Amsterdam:20260306T170000
DTSTAMP:20251205T113245Z
URL:https://www.duurzaam-ondernemen.nl/events/materialdistrict-utrecht-202
 6/
SUMMARY:MaterialDistrict Utrecht 2026
DESCRIPTION:Welke (bouw)materialen kunnen we maken van ‘afval’\, wat zi
 jn de nieuwste biobased materialen die ik kan gebruiken voor mijn volgende
  project\, welke producten zijn gemaakt van 100% gerecycled materiaal\, wa
 t zijn de laatste trends op materiaalgebied? MaterialDistrict Utrecht geef
 t je antwoord op al deze vragen en is het enige jaarlijkse evenement in N
 ederland dat materiaalfabrikanten en voorschrijvers van materialen uit all
 e sectoren van de ruimtelijke vormgeving bij elkaar brengt.\n\nDe 19e edit
 ie van MaterialDistrict Utrecht vindt plaats van 4 tot en met 6 maart 2026
  in Werkspoorkathedraal\, Utrecht. Met presentaties van 150 fabrikanten\, 
 start-ups en ontwerpers\, exposities met de nieuwste materialen en een lin
 e-up met 60 inspirerende sprekers\, biedt een bezoek je de unieke kans om 
 de nieuwste materialen en producten met eigen ogen te zien en aan te raken
 \, leveranciers te ontmoeten en meer te weten te komen over de laatste ont
 wikkelingen op het gebied van duurzaamheid en (interieur)architectuur.\nMa
 terialDistrict Innovation Fund\nDit jaar tonen meer exposanten dan ooit (m
 ateriaal)innovaties binnen de thema’s Circulariteit\, Wellbeing en E
 nergietransitie\, een direct gevolg van het MaterialDistrict Innovation 
 Fund dat in 2019 door MaterialDistrict is opgericht. Startups en ontwerpe
 rs kunnen uit het fonds subsidie krijgen op hun beursdeelname. Een onafhan
 kelijk adviescomité vervult een belangrijke rol in het scouten van startu
 ps en het beoordelen van subsidieaanvragen.\nMateriaalexpositie\nAlle 250 
 geselecteerde materialen van de jaarlijkse expositie vallen binnen één o
 f meerdere van de drie duurzame thema’s.\n\nMeer informatie / aanmelden
ATTACH;FMTTYPE=image/jpeg:https://www.duurzaam-ondernemen.nl/wordpress/wp-
 content/uploads/2025/12/matgrid.jpg
CATEGORIES:Bouw/Infra &amp; Vastgoed,Circulaire economie
LOCATION:Werkspoorkathedraal\, Tractieweg 41\, Utrecht\, 3534 AP\, Nederlan
 d
GEO:52.105057;5.079845
X-APPLE-STRUCTURED-LOCATION;VALUE=URI;X-ADDRESS=Tractieweg 41\, Utrecht\, 3
 534 AP\, Nederland;X-APPLE-RADIUS=100;X-TITLE=Werkspoorkathedraal:geo:52.1
 05057,5.079845
END:VEVENT
BEGIN:VTIMEZONE
TZID:Europe/Amsterdam
X-LIC-LOCATION:Europe/Amsterdam
BEGIN:STANDARD
DTSTART:20251026T020000
TZOFFSETFROM:+0200
TZOFFSETTO:+0100
TZNAME:CET
END:STANDARD
END:VTIMEZONE
END:VCALENDAR