BEGIN:VCALENDAR
VERSION:2.0
PRODID:-//wp-events-plugin.com//7.2.3.1//EN
TZID:Europe/Amsterdam
X-WR-TIMEZONE:Europe/Amsterdam
BEGIN:VEVENT
UID:1305@duurzaam-ondernemen.nl
DTSTART;TZID=Europe/Amsterdam:20240531T090000
DTEND;TZID=Europe/Amsterdam:20240531T130000
DTSTAMP:20240406T075354Z
URL:https://www.duurzaam-ondernemen.nl/events/masterclass-leiderschap-in-d
 uurzame-transformatie/
SUMMARY:Masterclass 'Leiderschap in duurzame transformatie'
DESCRIPTION:Iedereen in een leidinggevende positie komt in aanraking met de
  noodzaak voor duurzame verandering. In de interactieve Masterclass Leide
 rschap in duurzame transformatie bespreken Prof. David Langley\, Dr. Emma 
 Folmer en dr. Sven Killian  van de RUG en impactondernemer Myrthe de Vrie
 s hoe u duurzame verandering in uw bedrijf bewerkstelligt\; met nadruk op 
 het belang van data\, digitalisering\, governance en leiderschap én ruimt
 e voor uw eigen casus.\n\n 	Vrijdag 31 mei 2024\, 9.00-13.00 uur\, RUG Zer
 nike Campus Groningen\n 	Deelname met vroegboekkorting: € 49 (uiterlijk 
 10 mei 2024). Daarna € 79\n 	Inclusief netwerklunch\n\nBent u erbij? Mel
 d u tijdig aan om van de vroegboekkorting gebruik te maken.\nVoor mij?\n\n
  	U bent verantwoordelijk voor een duurzame strategie binnen uw bedrijf\, 
 als bijvoorbeeld duurzaamheidsmanager of op een leiderschapspositie\;\n 	U
  wilt uw organisatie zien verduurzamen\, maar weet niet hoe u daar draagvl
 ak voor kunt creëren\;\n 	U wilt weten hoe u als aanjager uw cliënten be
 ter bij kan staan in de duurzaamheidstransformatie.\n\nPartner\nDe masterc
 lass wordt aangeboden door de University of Groningen Business School\, in
  samenwerking met RUG Campus Fryslân. Als jongste faculteit van de Rijksu
 niversiteit Groningen stelt Campus Fryslân de Sustainable Development Goa
 ls van de VN centraal in onderzoek en onderwijs. De missie is om lokale op
 lossingen voor mondiale uitdagingen te vinden.\nSprekers en lezingtitels\n
 Prof.dr.ir. David Langley: "Digitalization for sustainability?"\nDavid Lan
 gley is hoogleraar op het gebied van digitale transformatie en strategie m
 et een focus op duurzaamheid. Hij heeft 30 jaar ervaring in het bedrijfsle
 ven waar hij inhoudelijke sturing heeft gegeven aan vele innovatie- en tra
 nsformatieprojecten in uiteenlopende sectoren. Hij was drie jaar lang colu
 mnist bij het FD en zijn wetenschappelijk onderzoek is verschenen in toona
 angevende tijdschriften\, zoals Environmental Research Letters en Organiza
 tion Science. Langley is programmadirecteur van de Executive MBA Sustaina
 ble Business Models van UGBS en kerndocent van het 3-daagse programma Du
 urzame Businesstransitie.\nDr. Emma Folmer: "Governance: hoe zorg je dat d
 uurzaamheid ingebed en omarmd wordt in de organisatie?"\nDuurzaamheid inbo
 uwen in je organisatie is lastig\, aldus Emma Folmer\, assistant professor
  Sustainable Entrepreneurship. Vanuit het veld van Sustainable Entrepreneu
 rship zijn er wel aanknopingspunten om dit te doen. Folmer doet onderzoek 
 naar ondernemerschap en in het bijzonder sociaal ondernemerschap. Belangri
 jke onderwerpen in dit domein zijn succesfactoren voor sociaal ondernemen 
 alsook de (lokale) impact die ermee gecreëerd kan worden.\nGastspreker: M
 yrthe de Vries\nMyrthe de Vries is Impactondernemer bij De Vries Vernieuwe
 rs (voorheen Schilders de Vries). Het familiebedrijf - van oorsprong een s
 childersbedrijf - vernieuwt vastgoed in de breedste zin van het woord. Het
  bedrijf heeft een duurzaam en sociaal hart waarbij werkplezier centraal s
 taat.\nDr. Sven Killian: “Enacting Change in Ecosystems”\nSven Killian
  is Assistant Professor Sustainable Entrepreneurship aan RUG Campus Frysl
 ân. Hij is expert op het gebied van duurzame consumptie\, consumentenpsyc
 hologie en (duurzaam) marketingmanagement.\n\nAanmelden
ATTACH;FMTTYPE=image/jpeg:https://www.duurzaam-ondernemen.nl/wordpress/wp-
 content/uploads/2024/04/mcg.png
CATEGORIES:Duurzaamheidsprofessionals
LOCATION:Zernike Campus Groningen\, Nettelbosje 2\, Groningen\, 9747 AE\, N
 ederland
GEO:53.23917;6.534436
X-APPLE-STRUCTURED-LOCATION;VALUE=URI;X-ADDRESS=Nettelbosje 2\, Groningen\,
  9747 AE\, Nederland;X-APPLE-RADIUS=100;X-TITLE=Zernike Campus Groningen:g
 eo:53.23917,6.534436
END:VEVENT
BEGIN:VTIMEZONE
TZID:Europe/Amsterdam
X-LIC-LOCATION:Europe/Amsterdam
BEGIN:DAYLIGHT
DTSTART:20240331T030000
TZOFFSETFROM:+0100
TZOFFSETTO:+0200
TZNAME:CEST
END:DAYLIGHT
END:VTIMEZONE
END:VCALENDAR