BEGIN:VCALENDAR
VERSION:2.0
PRODID:-//wp-events-plugin.com//7.2.3.1//EN
TZID:Europe/Amsterdam
X-WR-TIMEZONE:Europe/Amsterdam
BEGIN:VEVENT
UID:1895@duurzaam-ondernemen.nl
DTSTART;TZID=Europe/Amsterdam:20251211T120000
DTEND;TZID=Europe/Amsterdam:20251211T140000
DTSTAMP:20251113T074648Z
URL:https://www.duurzaam-ondernemen.nl/events/lunch-learn-co2-prestatielad
 der/
SUMMARY:Lunch & Learn - CO2 prestatieladder
DESCRIPTION:Krijg inzicht in de belangrijkste wijzigingen van het nieuwe Ha
 ndboek 4.0 en ontdek welke acties de bouw- en infrasector kan ondernemen o
 m CO2-reductie-eisen effectief te implementeren\, tijdens deze interactiev
 e Lunch &amp\; Learn van 2Impact\, inclusief lunch.\nVoor wie?\nProfession
 als in de bouw- en infrasector en installatiebranche die verantwoordelijk 
 zijn voor CO2-rapportage\, reductieprojecten of het voldoen aan de CO2-pre
 statieladder.\nWat je leert:\n\n 	De belangrijkste veranderingen in Handbo
 ek 4.0 en de praktische gevolgen voor jouw organisatie\n 	Strategieën om 
 CO2-monitoring\, rapportage en documentatie te verbeteren\n 	Praktische ti
 ps voor het effectief implementeren van CO2-reductie-eisen\n 	Ontmoet sect
 orgenoten en wissel waardevolle praktijkervaringen uit\n\nSchrijf je nu in
  via deze link.
ATTACH;FMTTYPE=image/jpeg:https://www.duurzaam-ondernemen.nl/wordpress/wp-
 content/uploads/2025/11/Duurzaam-Ondernemen-Banner-CO2-PL.png
CATEGORIES:Klimaat en Energie
LOCATION:Groothandelsgebouw\, Stationsplein 45\, Rotterdam\, 3013 AK\, Nede
 rland
GEO:51.923455;4.469124
X-APPLE-STRUCTURED-LOCATION;VALUE=URI;X-ADDRESS=Stationsplein 45\, Rotterda
 m\, 3013 AK\, Nederland;X-APPLE-RADIUS=100;X-TITLE=Groothandelsgebouw:geo:
 51.923455,4.469124
END:VEVENT
BEGIN:VTIMEZONE
TZID:Europe/Amsterdam
X-LIC-LOCATION:Europe/Amsterdam
BEGIN:STANDARD
DTSTART:20251026T020000
TZOFFSETFROM:+0200
TZOFFSETTO:+0100
TZNAME:CET
END:STANDARD
END:VTIMEZONE
END:VCALENDAR