BEGIN:VCALENDAR
VERSION:2.0
PRODID:-//wp-events-plugin.com//7.2.3.1//EN
TZID:Europe/Amsterdam
X-WR-TIMEZONE:Europe/Amsterdam
BEGIN:VEVENT
UID:1912@duurzaam-ondernemen.nl
DTSTART;TZID=Europe/Amsterdam:20251125T100000
DTEND;TZID=Europe/Amsterdam:20251125T110000
DTSTAMP:20251121T073323Z
URL:https://www.duurzaam-ondernemen.nl/events/live-webinar-integrating-car
 bon-credits-to-achieve-net-zero/
SUMMARY:Live webinar: Integrating carbon credits to achieve net zero
DESCRIPTION:Net zero is no longer optional—it's becoming a regulatory req
 uirement\, a competitive necessity\, and a stakeholder expectation. But\, 
 achieving it requires more than ambitious targets. It demands a credible\,
  integrated approach that combines meaningful emissions reductions with st
 rategic carbon credit use.\n\nIn this interactive webinar by Green Earth\,
  we'll show you how leading companies are building robust climate strategi
 es that use carbon credits as a necessary tool—not a shortcut—to reach
  their net-zero goals.\n\nWhether you're just starting your footprinting j
 ourney or refining an existing net-zero plan\, this webinar will provide a
  clear framework for integrating carbon credits the right way—aligned wi
 th reductions\, backed by integrity\, and built for the long term.\n\nThin
 k beyond offsets: Smart businesses are using carbon credits to lead.\n\nIn
  this webinar\, we will:\n\n 	Clarify why carbon credits are essential to 
 net zero (not just a compliance checkbox)\n 	Break down what makes carbon 
 credits strategically valuable—beyond basic verification\n 	Show you whe
 n and how to integrate credits into your reduction roadmap\n 	Share real-w
 orld use cases: from CSRD reporting to brand storytelling and supply chain
  engagement\n 	Introduce you to high-integrity projects making a measurabl
 e impact today\n 	Address common concerns such as greenwashing\, pricing\,
  and long-term strategy challenges\n\nRegister
ATTACH;FMTTYPE=image/jpeg:https://www.duurzaam-ondernemen.nl/wordpress/wp-
 content/uploads/2025/11/webc.jpg
CATEGORIES:Klimaat en Energie
LOCATION:Online webinar\,  \,  \, Nederland
GEO:52.132633;5.291266
X-APPLE-STRUCTURED-LOCATION;VALUE=URI;X-ADDRESS= \,  \, Nederland;X-APPLE-R
 ADIUS=100;X-TITLE=Online webinar:geo:52.132633,5.291266
END:VEVENT
BEGIN:VTIMEZONE
TZID:Europe/Amsterdam
X-LIC-LOCATION:Europe/Amsterdam
BEGIN:STANDARD
DTSTART:20251026T020000
TZOFFSETFROM:+0200
TZOFFSETTO:+0100
TZNAME:CET
END:STANDARD
END:VTIMEZONE
END:VCALENDAR