BEGIN:VCALENDAR
VERSION:2.0
PRODID:-//wp-events-plugin.com//7.2.3.1//EN
TZID:Europe/Amsterdam
X-WR-TIMEZONE:Europe/Amsterdam
BEGIN:VEVENT
UID:1883@duurzaam-ondernemen.nl
DTSTART;TZID=Europe/Amsterdam:20251126T100000
DTEND;TZID=Europe/Amsterdam:20251126T170000
DTSTAMP:20251027T115514Z
URL:https://www.duurzaam-ondernemen.nl/events/lean-green-summit-2025/
SUMMARY:Lean & Green Summit 2025
DESCRIPTION:Op woensdag 26 november 2025 is het zover: de Lean &amp\; Green
  Summit 2025 vindt dit jaar plaats in de Act Eventstudios – Cleantech Pa
 rk Arnhem! Hét evenement waar koplopers in duurzame logistiek samenkomen 
 onder het thema “Together we move”.\n\nDe Summit is gevuld met inspire
 rende keynotes\, praktische break-out sessies en waardevolle netwerkmogeli
 jkheden.\n\nMeer informatie/aanmelden
ATTACH;FMTTYPE=image/jpeg:https://www.duurzaam-ondernemen.nl/wordpress/wp-
 content/uploads/2025/10/272ac2b4-f74c-4ec7-8422-d16ce77fef80_m.png
CATEGORIES:Mobiliteit en Transport/Logistiek
LOCATION:Act Eventstudios\, Westervoortsedijk 73\, Arnhem\, 6827 AV\, Neder
 land
GEO:51.968532;5.949345
X-APPLE-STRUCTURED-LOCATION;VALUE=URI;X-ADDRESS=Westervoortsedijk 73\, Arnh
 em\, 6827 AV\, Nederland;X-APPLE-RADIUS=100;X-TITLE=Act Eventstudios:geo:5
 1.968532,5.949345
END:VEVENT
BEGIN:VTIMEZONE
TZID:Europe/Amsterdam
X-LIC-LOCATION:Europe/Amsterdam
BEGIN:STANDARD
DTSTART:20251026T020000
TZOFFSETFROM:+0200
TZOFFSETTO:+0100
TZNAME:CET
END:STANDARD
END:VTIMEZONE
END:VCALENDAR