BEGIN:VCALENDAR
VERSION:2.0
PRODID:-//wp-events-plugin.com//7.2.3.1//EN
TZID:Europe/Amsterdam
X-WR-TIMEZONE:Europe/Amsterdam
BEGIN:VEVENT
UID:1311@duurzaam-ondernemen.nl
DTSTART;TZID=Europe/Amsterdam:20240516T133000
DTEND;TZID=Europe/Amsterdam:20240516T180000
DTSTAMP:20240416T073735Z
URL:https://www.duurzaam-ondernemen.nl/events/kyden-esg-mini-congres-esg-c
 srd-ai-beyond/
SUMMARY:Kyden ESG Mini Congres: "ESG\, CSRD\, AI & Beyond''
DESCRIPTION:Wil je weten hoe ESG (Environmental\, Social\, and Governance) 
 praktisch kan worden toegepast in jouw organisatie? Benieuwd naar de nieuw
 ste ontwikkelingen op het gebied van ESG en de mogelijkheden van kunstmati
 ge intelligentie voor het oplossen van maatschappelijke vraagstukken? Ben 
 je verantwoordelijk voor de implementatie van een ESG-strategie binnen een
  MKB of wat grotere organisatie? Zie je een grote berg met werkzaamheden o
 p je af komen? En zie je ook de kansen die dit jouw organisatie kan bieden
 ?\n\nDan nodigen we je graag uit voor ons ESG Mini Congres op 16 mei a.s. 
 in de Social Impact Factory Kauwgomballenfabriek in Amsterdam!\n\nHet prog
 ramma omvat vier boeiende breakouts:\n\nAan de slag met ESG: Leer de basis
 principes van ESG kennen en ontdek hoe je deze kunt integreren in jouw bed
 rijfsstrategieën. Verzorgd door Tim Meurs - Kyden.\n\nCSRD &amp\; Beyond:
  Verken de toekomst van CSRD &amp\; Beyond en ontdek wat dit voor jouw ESG
 -strategie en -implementatie gaat betekenen. Verzorgd door Quirin Niessen 
 - Kyden.\n\nAI for Good: Ontdek de kracht van AI en ontwikkel je oog voor 
 kansen om daar maatschappelijke vraagstukken mee aan te pakken en positiev
 e veranderingen in te zetten. Verzorgd door Marco van der Werf - BIT / Kyd
 en.\n\nESG en relevante juridische ontwikkelingen: Welke internationale e
 n nationale wetten en regelgeving zijn relevant voor jouw organisatie als 
 het gaat om ESG? Hoe beleid en processen aangepast kunnen worden om ESG-ri
 sico's beter te beheersen? Verzorgd door: Maaike Kamps - Van Benthem &amp\
 ; Keulen.\n\nDit is jouw kans om te netwerken met gelijkgestemde professio
 nals\, inspirerende sprekers te ontmoeten en deel te nemen aan boeiende di
 scussies over de toekomst van duurzaamheid en technologie.\n\nToegang is g
 ratis\, maar registratie is vereist vanwege beperkte beschikbaarheid. Meld
  je snel aan en verzeker jezelf van een plek op dit unieke evenement!
ATTACH;FMTTYPE=image/jpeg:https://www.duurzaam-ondernemen.nl/wordpress/wp-
 content/uploads/2024/04/Kyden-ESG-Mini-Congres-bij-Social-Impact-Factory-1
 000x600-1.png
CATEGORIES:Duurzaamheidsprofessionals,Verslaggeving &amp; Transparantie
LOCATION:Kauwgomballenfabriek\,  Paul van Vlissingenstraat 10\, Amsterdam\,
  1096 BK\, Nederland
GEO:52.333916;4.921319
X-APPLE-STRUCTURED-LOCATION;VALUE=URI;X-ADDRESS= Paul van Vlissingenstraat 
 10\, Amsterdam\, 1096 BK\, Nederland;X-APPLE-RADIUS=100;X-TITLE=Kauwgombal
 lenfabriek:geo:52.333916,4.921319
END:VEVENT
BEGIN:VTIMEZONE
TZID:Europe/Amsterdam
X-LIC-LOCATION:Europe/Amsterdam
BEGIN:DAYLIGHT
DTSTART:20240331T030000
TZOFFSETFROM:+0100
TZOFFSETTO:+0200
TZNAME:CEST
END:DAYLIGHT
END:VTIMEZONE
END:VCALENDAR