BEGIN:VCALENDAR
VERSION:2.0
PRODID:-//wp-events-plugin.com//7.2.3.1//EN
TZID:Europe/Amsterdam
X-WR-TIMEZONE:Europe/Amsterdam
BEGIN:VEVENT
UID:1773@duurzaam-ondernemen.nl
DTSTART;TZID=Europe/Amsterdam:20251105T100000
DTEND;TZID=Europe/Amsterdam:20251106T170000
DTSTAMP:20250609T112452Z
URL:https://www.duurzaam-ondernemen.nl/events/klimaattop-gebouwde-omgeving
 -2025/
SUMMARY:Klimaattop Gebouwde Omgeving 2025
DESCRIPTION:De gebouwde omgeving is verantwoordelijk voor bijna 40% van de 
 CO2-uitstoot in Nederland. In 2050 moeten we naar een CO2-neutrale gebouwd
 e omgeving. Uit het rapport Op weg naar CO2-neutraal blijkt dat we acht
 erlopen op onze doelstellingen. Daarom nam kennisinstituut Duurzaam Gebouw
 d in 2024 het initiatief voor de eerste Klimaattop Gebouwde Omgeving.\n\nM
 et ruim 1.000 publieke en private deelnemers en meer dan 30 concrete deals
  leverde deze eerste editie niet alleen verbinding\, maar vooral versnelli
 ng op in de verduurzaming van de gebouwde omgeving. Die versnelling kan al
 leen slagen als publieke én private partijen samenwerken aan gedeelde doe
 len en concrete oplossingen.\n\nDe verduurzamingsopgave staat niet op zich
 zelf. Binnen de gebouwde omgeving spelen grote maatschappelijke vraagstukk
 en die hier direct mee samenhangen\, zoals onder andere het woningtekort\,
  energiearmoede\, netcongestie\, de beschikbaarheid van water\, teruglopen
 de natuur\, eenzaamheid en de stikstofproblematiek. Deze uitdagingen vorme
 n de basis van waaruit we samen aan de slag gaan.\nVan ambitie naar actie\
 nIn 2025 schakelen we door met meer deelnemers\, meer deals en meer impact
 . Onder voorzitterschap van Diederik Samsom\, en met een krachtige program
 maraad\, ligt de lat hoger dan ooit. Met ondersteuning van onder andere he
 t Ministerie van Volkshuisvesting en Ruimtelijke Ordening\, de Provincie U
 trecht\, Heijmans\, ABN AMRO en vele anderen zetten we in op meer dan 50
  nieuwe deals die bijdragen aan concrete oplossingen voor maatschappelijke
  en ecologische uitdagingen.\n\nOp 5 en 6 november 2025 brengen we 2.000 d
 eelnemers samen in Jaarbeurs Utrecht om te verbinden\, samen te werken en 
 te versnellen.\n\nDe Klimaattop Gebouwde Omgeving 2025 richt zich op vijf 
 thema’s: energietransitie\, circulair bouwen\, klimaatbestendig bouwen\,
  sociale impact en arbeidsmarkt &amp\; AI. Tijdens deze tweedaagse confer
 entie zetten publiek en privaat samen de stap naar de duurzaam gebouwde om
 geving van morgen.\n\nMeer informatie
ATTACH;FMTTYPE=image/jpeg:https://www.duurzaam-ondernemen.nl/wordpress/wp-
 content/uploads/2025/06/image-social.png
CATEGORIES:Bouw/Infra &amp; Vastgoed,Klimaat en Energie
LOCATION:Jaarbeurs\, Jaarbeursplein\, Utrecht\, 3521 AL\, Nederland
GEO:52.090276;5.105317
X-APPLE-STRUCTURED-LOCATION;VALUE=URI;X-ADDRESS=Jaarbeursplein\, Utrecht\, 
 3521 AL\, Nederland;X-APPLE-RADIUS=100;X-TITLE=Jaarbeurs:geo:52.090276,5.1
 05317
END:VEVENT
BEGIN:VTIMEZONE
TZID:Europe/Amsterdam
X-LIC-LOCATION:Europe/Amsterdam
BEGIN:STANDARD
DTSTART:20251026T020000
TZOFFSETFROM:+0200
TZOFFSETTO:+0100
TZNAME:CET
END:STANDARD
END:VTIMEZONE
END:VCALENDAR