BEGIN:VCALENDAR
VERSION:2.0
PRODID:-//wp-events-plugin.com//7.2.3.1//EN
TZID:Europe/Amsterdam
X-WR-TIMEZONE:Europe/Amsterdam
BEGIN:VEVENT
UID:1997@duurzaam-ondernemen.nl
DTSTART;TZID=Europe/Amsterdam:20261104T100000
DTEND;TZID=Europe/Amsterdam:20261105T170000
DTSTAMP:20260415T112245Z
URL:https://www.duurzaam-ondernemen.nl/events/klimaat-top-gebouwde-omgevin
 g-2026/
SUMMARY:Klimaattop Gebouwde Omgeving 2026
DESCRIPTION:Tijdens deze tweedaagse top zetten publiek en privaat samen een
  stap naar de duurzaam gebouwde omgeving van morgen.\n\nMeer informatie
ATTACH;FMTTYPE=image/jpeg:https://www.duurzaam-ondernemen.nl/wordpress/wp-
 content/uploads/2026/02/KTGO-banner.png
CATEGORIES:Bouw/Infra &amp; Vastgoed,Klimaat en Energie
LOCATION:Jaarbeurs\, Jaarbeursplein\, Utrecht\, 3521 AL\, Nederland
GEO:52.090276;5.105317
X-APPLE-STRUCTURED-LOCATION;VALUE=URI;X-ADDRESS=Jaarbeursplein\, Utrecht\, 
 3521 AL\, Nederland;X-APPLE-RADIUS=100;X-TITLE=Jaarbeurs:geo:52.090276,5.1
 05317
END:VEVENT
BEGIN:VTIMEZONE
TZID:Europe/Amsterdam
X-LIC-LOCATION:Europe/Amsterdam
BEGIN:STANDARD
DTSTART:20261025T020000
TZOFFSETFROM:+0200
TZOFFSETTO:+0100
TZNAME:CET
END:STANDARD
END:VTIMEZONE
END:VCALENDAR