BEGIN:VCALENDAR
VERSION:2.0
PRODID:-//wp-events-plugin.com//7.2.3.1//EN
TZID:Europe/Amsterdam
X-WR-TIMEZONE:Europe/Amsterdam
BEGIN:VEVENT
UID:1906@duurzaam-ondernemen.nl
DTSTART;TZID=Europe/Amsterdam:20251211T170000
DTEND;TZID=Europe/Amsterdam:20251211T200000
DTSTAMP:20251119T145716Z
URL:https://www.duurzaam-ondernemen.nl/events/intervisie-sustainability-ma
 nagers-food-for-thought/
SUMMARY:Intervisie Sustainability Managers / Food for Thought
DESCRIPTION:Ben jij een duurzame changemaker en wil je samen met anderen je
  leiderschap versterken\, leren van elkaar en nieuwe inzichten opdoen vanu
 it dagelijkse ervaring? Doe dan mee aan ons intervisie programma met he
 erlijk eten. Onder begeleiding van Annick Schmeddes en Carola Wijdoogen. 
 \n\nVoorbeeld Cases:\n\n 	Eén van de RvB leden of Directie probeert conse
 quent échte verandering tegen te werken. Je leidinggevende steunt je wel 
 maar helpt je niet.\n 	Je bent gedreven om échte impact te creëren maar 
 voelt je ingeklemd tussen andere belangen en je eigen wensen over een goed
 e work/life balance.\n 	Je overziet de toekomstige uitdagingen die de nieu
 we Sustainability doelen met zich meebrengen (bijv. materiaalschaarse door
  elektrificatie) maar hoe breng je dit op de agenda\, wat is opportuun?\n\
 nLocatie 11 december: Den Haag. Vervolg Den Haag of Utrecht.\n\nKennismaki
 ngssessie/verkenning is op 11 december 2025. Meld je aan of heb je vragen:
  mail  annick@sustainabletalent.nl\n\nData bijeenkomsten 2026: worden in
 gepland met geïnteresseerden op 11 december 2025.\n\nTijd: Inloop vanaf 1
 6.30 (om de files voor te zijn). Het programma zal om 17:00 uur beginnen
  en om 20:00 eindigen.\n\nDe prijs voor een reeks van 5 bijeenkomsten 97
 5\,- excl. BTW.\n\nVoor gecertificeerde CSO’s levert het 2 PE punten op.
ATTACH;FMTTYPE=image/jpeg:https://www.duurzaam-ondernemen.nl/wordpress/wp-
 content/uploads/2023/03/18.lcsa_workshop_smes.jpg
CATEGORIES:Duurzaamheidsprofessionals
LOCATION:Number 5 foundation \, 't Hoenstraat 5\, Den Haag\, 2596 HX\, Ned
 erland
GEO:52.095342;4.309222
X-APPLE-STRUCTURED-LOCATION;VALUE=URI;X-ADDRESS='t Hoenstraat 5\, Den Haag\
 , 2596 HX\, Nederland;X-APPLE-RADIUS=100;X-TITLE=Number 5 foundation :geo
 :52.095342,4.309222
END:VEVENT
BEGIN:VTIMEZONE
TZID:Europe/Amsterdam
X-LIC-LOCATION:Europe/Amsterdam
BEGIN:STANDARD
DTSTART:20251026T020000
TZOFFSETFROM:+0200
TZOFFSETTO:+0100
TZNAME:CET
END:STANDARD
END:VTIMEZONE
END:VCALENDAR