BEGIN:VCALENDAR
VERSION:2.0
PRODID:-//wp-events-plugin.com//7.2.3.1//EN
TZID:Europe/Amsterdam
X-WR-TIMEZONE:Europe/Amsterdam
BEGIN:VEVENT
UID:1977@duurzaam-ondernemen.nl
DTSTART;TZID=Europe/Amsterdam:20260326T120000
DTEND;TZID=Europe/Amsterdam:20260326T130000
DTSTAMP:20260130T113118Z
URL:https://www.duurzaam-ondernemen.nl/events/inspiratiewebinar-hoe-realis
 eer-je-duurzame-gedragsverandering-binnen-jouw-organisatie/
SUMMARY:Inspiratiewebinar: Hoe realiseer je duurzame gedragsverandering bin
 nen jouw organisatie?
DESCRIPTION:Elk bedrijf kent wel zo’n ‘hoofdpijndossier’. Een vraagst
 uk waar iedereen zich druk over kan maken\, maar niemand weet een simpele 
 oplossing. Thema’s als cultuurverandering\, leiderschap\, wendbaarheid e
 n sociale veiligheid zijn klassieke wicked problems: complex\, gelaagd en 
 beïnvloed door menselijk gedrag\, onderliggende patronen en organisatiecu
 ltuur.\nToch worden deze vraagstukken nog vaak benaderd met een te simpele
 \, lineaire veranderaanpak. Denk aan losse interventies\, trainingen of in
 strumenten die het symptoom aanpakken\, maar niet het systeem erachter. Hi
 erdoor blijft echte verandering uit\, terwijl medewerkers onvrede\, een ge
 brek aan autonomie of waarderingsproblemen blijven ervaren.\n\nTijdens dez
 e gratis inspiratiewebinar op donderdag 26 maart 2026 (12:00–13:00u) 
 laat Jurgen Hell\, docent\, senior systemisch coach en expert in organisa
 tiepsychologie en veranderkunde\, zien hoe je wicked problems wél effecti
 ef aanpakt aan de hand van concrete voorbeelden uit de praktijk.\n\nHij ne
 emt je mee in een systemische manier van kijken\, waarin onderliggende dy
 namieken\, leiderschapsstijlen en cultuurpatronen centraal staan. En je on
 tdekt hoe je van single-loop learning (symptoomaanpak) naar triple-loop
  learning gaat: het daadwerkelijk veranderen van de manier van werken en 
 denken in teams en organisaties.\nWat leer je?\nIn deze sessie krijg je in
 zichten\, voorbeelden en praktische tools om:\n\n 	Wicked problems te her
 kennen binnen je eigen organisatie\n 	Te begrijpen waarom sommige problem
 en niet “opgelost” moeten worden\, maar anders benaderd\n 	Te schakel
 en van lineaire oplossingen naar een systemische aanpak\n 	Leiderschap t
 e ontwikkelen voorbij transactioneel sturen\n 	Een veilig leerklimaat te
  creëren waarin organisatieontwikkeling en gedragsverandering echt kunnen
  ontstaan\n 	Je “gereedschapskist” uit te breiden met frameworks zoa
 ls de selfdeterminatietheorie of single-\, double- of triple-loop learn
 ing\n\nVoor wie?\nDeze inspiratiesessie is relevant voor:\n\n 	Teamleiders
 \, (duurzaamheid)managers en leidinggevenden\n 	HR-professionals en organi
 satieadviseurs\n 	Veranderkundigen en consultants\n 	Agile coaches\, scrum
  masters en projectleiders\n 	Professionals die bezig zijn met cultuurvera
 ndering of sociale veiligheid\n 	Iedereen die merkt dat lineaire oplossing
 en geen effect meer hebben\n\nOf je nu net begint met systemisch kijken of
  al langer merkt dat jouw organisatie tegen complexe patronen aanloopt: de
 ze sessie geeft je nieuwe perspectieven\, herkenning en praktische handvat
 ten voor duurzame verandering.\n\nMeer informatie/aanmelden
ATTACH;FMTTYPE=image/jpeg:https://www.duurzaam-ondernemen.nl/wordpress/wp-
 content/uploads/2026/01/banner-800x460-inspiratiewebinar-jurgen-hell-26-ma
 art-2026.png
CATEGORIES:Duurzaamheidsprofessionals
LOCATION:Online webinar\,  \,  \, Nederland
GEO:52.132633;5.291266
X-APPLE-STRUCTURED-LOCATION;VALUE=URI;X-ADDRESS= \,  \, Nederland;X-APPLE-R
 ADIUS=100;X-TITLE=Online webinar:geo:52.132633,5.291266
END:VEVENT
BEGIN:VTIMEZONE
TZID:Europe/Amsterdam
X-LIC-LOCATION:Europe/Amsterdam
BEGIN:STANDARD
DTSTART:20251026T020000
TZOFFSETFROM:+0200
TZOFFSETTO:+0100
TZNAME:CET
END:STANDARD
END:VTIMEZONE
END:VCALENDAR