BEGIN:VCALENDAR
VERSION:2.0
PRODID:-//wp-events-plugin.com//7.2.3.1//EN
TZID:Europe/Amsterdam
X-WR-TIMEZONE:Europe/Amsterdam
BEGIN:VEVENT
UID:1864@duurzaam-ondernemen.nl
DTSTART;TZID=Europe/Amsterdam:20251030T100000
DTEND;TZID=Europe/Amsterdam:20251030T180000
DTSTAMP:20251020T120242Z
URL:https://www.duurzaam-ondernemen.nl/events/impactfest-2025-under-pressu
 re-brace-for-impact/
SUMMARY:ImpactFest 2025: 'Under Pressure – Brace for Impact'
DESCRIPTION:Under pressure\, new sparks can fly. Pressure tests what we’v
 e built and reveals what truly matters.\n\nTen years ago\, ImpactFest was 
 born from bold conviction.\n\nToday\, we find ourselves at a new crossroad
 s. We are living in turbulent times.\n\nThe climate is heating up. Democra
 cies are under pressure. Inequality persists.\n\nThe world feels uncertain
  — volatile even. And while breakthrough technologies\, rising awareness
 \, and a shift toward circularity offer real hope\, they also demand clari
 ty\, courage\, and direction. The next ten years will be decisive.\n\nWill
  we scale solutions — or replicate the same old systems in new clothes?\
 n\nWill we deepen impact — or dilute our values?\n\nWill we lead with pu
 rpose — or let pressure push us off course?\n\nImpactFest 2025 is both a
  celebration and a reckoning.\n\nA look back at a decade of building. And 
 a collective moment to brace for impact.\n100e Money Matters aflevering\nD
 e 100e aflevering van de podcast Money Matters zal uitgezonden worden vana
 f Impactfest!\n\nMore information\n\n
ATTACH;FMTTYPE=image/jpeg:https://www.duurzaam-ondernemen.nl/wordpress/wp-
 content/uploads/2024/02/impactfest.jpg
CATEGORIES:Duurzaamheidsprofessionals
LOCATION:\, \, 
X-APPLE-STRUCTURED-LOCATION;VALUE=URI;X-ADDRESS=\, ;X-APPLE-RADIUS=100;X-TI
 TLE=:geo:0,0
END:VEVENT
BEGIN:VTIMEZONE
TZID:Europe/Amsterdam
X-LIC-LOCATION:Europe/Amsterdam
BEGIN:STANDARD
DTSTART:20251026T020000
TZOFFSETFROM:+0200
TZOFFSETTO:+0100
TZNAME:CET
END:STANDARD
END:VTIMEZONE
END:VCALENDAR