BEGIN:VCALENDAR
VERSION:2.0
PRODID:-//wp-events-plugin.com//7.2.3.1//EN
TZID:Europe/Amsterdam
X-WR-TIMEZONE:Europe/Amsterdam
BEGIN:VEVENT
UID:1995@duurzaam-ondernemen.nl
DTSTART;TZID=Europe/Amsterdam:20270624T120000
DTEND;TZID=Europe/Amsterdam:20270624T190000
DTSTAMP:20260213T110954Z
URL:https://www.duurzaam-ondernemen.nl/events/impact-on-the-beach/
SUMMARY:Impact on the Beach
DESCRIPTION:Save the date!\n\nMeer informatie volgt op https://www.impacton
 thebeach.nl/\n\n
ATTACH;FMTTYPE=image/jpeg:https://www.duurzaam-ondernemen.nl/wordpress/wp-
 content/uploads/2026/02/impactbeach.jpg
CATEGORIES:Duurzaamheidsprofessionals
LOCATION:The Shore\, Scheveningen Strand\, Strandweg 2A\, Den Haag\, 2586 Z
 Z\, Nederland
GEO:52.102378;4.263928
X-APPLE-STRUCTURED-LOCATION;VALUE=URI;X-ADDRESS=Strandweg 2A\, Den Haag\, 2
 586 ZZ\, Nederland;X-APPLE-RADIUS=100;X-TITLE=The Shore\, Scheveningen Str
 and:geo:52.102378,4.263928
END:VEVENT
BEGIN:VTIMEZONE
TZID:Europe/Amsterdam
X-LIC-LOCATION:Europe/Amsterdam
BEGIN:DAYLIGHT
DTSTART:20270328T030000
TZOFFSETFROM:+0100
TZOFFSETTO:+0200
TZNAME:CEST
END:DAYLIGHT
END:VTIMEZONE
END:VCALENDAR