BEGIN:VCALENDAR
VERSION:2.0
PRODID:-//wp-events-plugin.com//7.2.3.1//EN
TZID:Europe/Amsterdam
X-WR-TIMEZONE:Europe/Amsterdam
BEGIN:VEVENT
UID:1294@duurzaam-ondernemen.nl
DTSTART;TZID=Europe/Amsterdam:20240418T090000
DTEND;TZID=Europe/Amsterdam:20240418T170000
DTSTAMP:20240314T150613Z
URL:https://www.duurzaam-ondernemen.nl/events/ghg-accounting-training-2/
SUMMARY:GHG Accounting Training
DESCRIPTION:\n\nHet wordt steeds relevanter om als financial of duurzaamhei
 dsprofessional genoeg kennis te hebben over thema’s binnen het duurzaamh
 eidsdomein. Het uitvoeren en controleren van en adviseren over duurzaamhei
 ds-analyses en niet-financiële data wordt steeds meer onderdeel van de da
 gelijkse praktijk van professionals. Specifiek is het belangrijk om te wet
 en hoe bedrijven een Green-House-Gas ofwel een CO2-footprint moeten opstel
 len en wat gebruikelijke standaarden zijn. Maar ook hoe je deze kunt contr
 oleren. Deze training van één dag gaat daar uitgebreid op in en is de id
 eale manier om je te scholen samen met andere duurzaamheidsprofessionals e
 n financials onder de bezielende leiding van Paul van Ruiten en Wiger Aant
 jes.\n\n‘Als je op zoek bent naar een goede GHG-accounting training dan 
 raad ik deze waardevolle en leuke training aan. De docenten zijn deskundig
  en praktijkgericht.’ - Mohamed El Harachaoui \, RA\nProgramma\nDe train
 ingsdag bestaat uit:\n\n1) Een introductie op Green-House-Gasses (GHG).\n\
 n2) Een deepdive in het GHG-protocol\, de internationale standaard voor GH
 G footprint reporting.\n\n3) Scoping:  De hele value chain (scope 1\, 2 e
 n 3) wordt besproken. Met ruime aandacht voor typische GHG emissiebronnen 
 en -waardes.\n\n4) Typische verbetermaatregelen om GHG-emissies te reducer
 en.\n\n5) Aandacht voor controles waarbij we je orde groottes leren ervare
 n van de uitstoot gerelateerd aan elektriciteitsverbruik\, vervoer\, inkoo
 p van materiaal en afvalverwerking.\n\nDe training bestaat afwisselend uit
  theorie\, praktijkvoorbeelden en opdrachten.\nPraktische informatie\nLoca
 tie is Grytte Bloemenheuvel in Driebergen. Er wordt een lunch verzorgd op 
 locatie. De kosten bedragen €595 (ex. BTW). Deze training is 8 PE punten
 . Deelnemers krijgen een certificaat als bewijs van deelname.\nDocenten\nP
 aul van Ruiten is eigenaar van Bureau Om en al meer dan 25 jaar actief in 
 het vakgebied milieu en duurzaamheid en werkte oa als klimaatexpert op de 
 Nederlandse Ambassade in Washington en bij het ministerie in Den Haag. Pau
 l geeft veel trainingen aan financials en duurzaamheidsprofessionals en in
 tern bij bedrijven. Hij is hoofdauteur van het managementboek ‘Impactvol
  ondernemen in de praktijk’ dat gebruikt wordt in het onderwijs bij vers
 chillende Hoge scholen.\n\nWiger Aantjes is eigenaar van Sustaining Supply
  Chains en adviseert het grotere MKB en mulitinationals over GHG footprint
 ing en verduurzamingsmaatregelen. Zijn core business is het uitvoeren en c
 ontroleren van GHG-footprints. Wiger heeft een sterk quantitatieve achterg
 rond en heeft een master in Biosystems Engineering met een specialisatie o
 p Operations Research.\n\n\n\nMeer informatie/aanmelden\n
ATTACH;FMTTYPE=image/jpeg:https://www.duurzaam-ondernemen.nl/wordpress/wp-
 content/uploads/2024/01/Banner_DO.png
CATEGORIES:Klimaat en Energie,Verslaggeving &amp; Transparantie
LOCATION:Grytte Bloemenheuvel\, Hoofdstraat 25\, Driebergen-Rijsenburg\, 39
 71 KA\, Nederland
GEO:52.062192;5.266032
X-APPLE-STRUCTURED-LOCATION;VALUE=URI;X-ADDRESS=Hoofdstraat 25\, Driebergen
 -Rijsenburg\, 3971 KA\, Nederland;X-APPLE-RADIUS=100;X-TITLE=Grytte Bloeme
 nheuvel:geo:52.062192,5.266032
END:VEVENT
BEGIN:VTIMEZONE
TZID:Europe/Amsterdam
X-LIC-LOCATION:Europe/Amsterdam
BEGIN:DAYLIGHT
DTSTART:20240331T030000
TZOFFSETFROM:+0100
TZOFFSETTO:+0200
TZNAME:CEST
END:DAYLIGHT
END:VTIMEZONE
END:VCALENDAR