BEGIN:VCALENDAR
VERSION:2.0
PRODID:-//wp-events-plugin.com//7.2.3.1//EN
TZID:Europe/Amsterdam
X-WR-TIMEZONE:Europe/Amsterdam
BEGIN:VEVENT
UID:1925@duurzaam-ondernemen.nl
DTSTART;TZID=Europe/Amsterdam:20260409T100000
DTEND;TZID=Europe/Amsterdam:20260410T170000
DTSTAMP:20260407T141402Z
URL:https://www.duurzaam-ondernemen.nl/events/future-proof-leaders-summit-
 2026/
SUMMARY:Future Proof Leaders Summit 2026
DESCRIPTION:De Future Proof Leaders Summit 2026 wordt geleid door Leen Zeve
 nbergen en zal plaatsvinden gelijktijdig met de Impact Trade Fair 2026.\nF
 UTURE-PROOFING EUROPE\, TOGETHER\nIf your ambition as a leader is to futur
 e-proof your organization\, the Leaders Summit is an exceptionally powerfu
 l business accelerator. You’ll join around 500 leaders and decision-mak
 ers in an intensive program built around strategic challenges with valuab
 le inspirators from business\, science and society. Choose your challenges
  where top-moderators will engage you and your fellows to embark on future
 -proof pathways. This is NOT a conference\, but a workspace to do business
  immediately\, tackle strategic challenges and accelerate impact. The goal
  of the Leaders Summit is to unleash the real power of chief executives fr
 om business\, civil society and applied sciences to future-proof business
  and society. Sharing real case studies\, insights\, and solutions around 
 technology\, transition and sustainability—enabling you on the spot to m
 ake productive connections and joint ventures to boost future proofing you
 r organization. Contribute to this impact powerhouse and become part of ou
 r future-proof movement.\n\n➜ More than 500 leaders\, executives\, and d
 ecision-makers\n➜ 2-day challenges and strategy sessions\n➜ Valuable c
 urated content\n➜ Interactive excange\, top-moderators\n➜ CEO panels a
 nd exclusive networking opportunities\n➜ Hosted by Leen Zevenbergen (e
 xperienced entrepreneur and CEO\, author\, speaker\, and co-founder of B L
 ab Europe)\n\nMeer informatie\n\n&nbsp\;\n\n
ATTACH;FMTTYPE=image/jpeg:https://www.duurzaam-ondernemen.nl/wordpress/wp-
 content/uploads/2025/12/2122694838-93a7f3e77d52fc3559aebadd4e177268ad6755a
 2cde5f8300f823a8266d785b6-d.webp
CATEGORIES:Duurzaamheidsprofessionals
LOCATION:Jaarbeurs\, Jaarbeursplein\, Utrecht\, 3521 AL\, Nederland
GEO:52.090276;5.105317
X-APPLE-STRUCTURED-LOCATION;VALUE=URI;X-ADDRESS=Jaarbeursplein\, Utrecht\, 
 3521 AL\, Nederland;X-APPLE-RADIUS=100;X-TITLE=Jaarbeurs:geo:52.090276,5.1
 05317
END:VEVENT
BEGIN:VTIMEZONE
TZID:Europe/Amsterdam
X-LIC-LOCATION:Europe/Amsterdam
BEGIN:DAYLIGHT
DTSTART:20260329T030000
TZOFFSETFROM:+0100
TZOFFSETTO:+0200
TZNAME:CEST
END:DAYLIGHT
END:VTIMEZONE
END:VCALENDAR