BEGIN:VCALENDAR
VERSION:2.0
PRODID:-//wp-events-plugin.com//7.2.3.1//EN
TZID:Europe/Amsterdam
X-WR-TIMEZONE:Europe/Amsterdam
BEGIN:VEVENT
UID:1662@duurzaam-ondernemen.nl
DTSTART;TZID=Europe/Amsterdam:20250923T093000
DTEND;TZID=Europe/Amsterdam:20250924T170000
DTSTAMP:20250320T111440Z
URL:https://www.duurzaam-ondernemen.nl/events/food-matters-live-rotterdam/
SUMMARY:Food Matters Live Rotterdam
DESCRIPTION:Food Matters Live Rotterdam biedt een tweedaags podium voor Ned
 erlandse (en Benelux) professionals in innovatie op het gebied van food en
  nutrition die zich bezig houden met de toekomst van de voedingsindustrie.
 \n\nOnder de eerste bevestigde namen bevinden zich o.a.:\n\n 	Marjolein Br
 asz\, CEO\, Foodvalley\n 	Johan Garssen\, Chief scientific advisor\, Dano
 ne\n 	Zbigniew Lewicki\, Global R&amp\;D Head\, Unilever Ice Cream\n 	Ana 
 Piekarz\, Global Head ESG Nutrition\, The Kraft Heinz Company\n 	Dmitri Pe
 ters\, Managing Director &amp\; Co-founder\, Jet Drinks\n 	Lauren Woodley
 \, Group Nutrition Leader\, Nomad Foods\n 	Volkert Engelsman\, Chairman\, 
 Robin Food Coalition\n 	Cees-Jan Adema\, Director General\, Federatie Nede
 rlandse Levensmiddelen Industrie (FNLI)\n 	Lisa Veen\, General Manager\, 
 Magioni\n\nOp de website van Food Matters Live voegen we regelmatig nieu
 we sprekers toe.\n\nTastes of Better\n\nHet programma van Food Matters Liv
 e Roterdam\, met Tastes of Better als hoofdprogrammering\, telt een grot
 e hoeveelheid aan relevante sprekers\, discussiepanels\, rondetafelsessies
  en presentaties. Dit maakt Food Matters Live hét platform voor kennis en
  inspiratie in de sector. Aanmelden voor Food Matters Live Rotterdam kan 
 hier.\n\n
ATTACH;FMTTYPE=image/jpeg:https://www.duurzaam-ondernemen.nl/wordpress/wp-
 content/uploads/2025/03/Banner.jpeg
CATEGORIES:Voeding &amp; Landbouw
LOCATION:Rotterdam Ahoy Convention Centre\, Ahoyweg 10\, Rotterdam\, 3084 B
 A \, Nederland
GEO:51.881942;4.486594
X-APPLE-STRUCTURED-LOCATION;VALUE=URI;X-ADDRESS=Ahoyweg 10\, Rotterdam\, 30
 84 BA \, Nederland;X-APPLE-RADIUS=100;X-TITLE=Rotterdam Ahoy Convention Ce
 ntre:geo:51.881942,4.486594
END:VEVENT
BEGIN:VTIMEZONE
TZID:Europe/Amsterdam
X-LIC-LOCATION:Europe/Amsterdam
BEGIN:DAYLIGHT
DTSTART:20250330T030000
TZOFFSETFROM:+0100
TZOFFSETTO:+0200
TZNAME:CEST
END:DAYLIGHT
END:VTIMEZONE
END:VCALENDAR