BEGIN:VCALENDAR
VERSION:2.0
PRODID:-//wp-events-plugin.com//7.2.3.1//EN
TZID:Europe/Amsterdam
X-WR-TIMEZONE:Europe/Amsterdam
BEGIN:VEVENT
UID:1306@duurzaam-ondernemen.nl
DTSTART;TZID=Europe/Amsterdam:20240620T120000
DTEND;TZID=Europe/Amsterdam:20240620T173000
DTSTAMP:20240409T061125Z
URL:https://www.duurzaam-ondernemen.nl/events/event-positieve-impact-menta
 le-fitheid/
SUMMARY:Event Positieve Impact: 'Mentale fitheid'
DESCRIPTION:Hoe vergoot je jouw werkplezier?\n\nWat moet je weten over stre
 ss?\n\nHoe behoud je focus te midden van afleidingen en multitasking?\n\nW
 at zijn de nieuwste wetenschappelijke inzichten?\n\nHoe kan jouw organisat
 ie een gezonde en ondersteunende werkomgeving bevorderen?\n\nDat ontdek je
  tijdens dit event van Stichting Positieve Impact met als thema Mentale Fi
 theid!\n\nWat je o.a. kunt verwachten:\n\n 	Thijs Launspach expert op het
  gebied van mentale gezondheid\, stress en burn-out\, deelt inzichten en p
 raktische tools.\n 	Focus en breinexpert Mark Tigchelaar\, laat zien hoe
  we grip op onze focus krijgen.\n 	Annabel Pieren vanuit The Happy Squad
  over de kracht van vriendelijkheid.\n 	Onze eigen Thijs Lindhout zorgt
  voor een combinatie van inspiratie en entertainment met live drums!\n 	8 
 interactieve workshops o.a. over werk maken van werkgeluk\, mentale vita
 liteit op de werkvloer\, productief in 21e eeuw\, lessen uit de natuur v
 oor samenwerking en meer....\n 	Netwerken met meer dan 400 MVO Managers\,
  duurzaamheidsmanagers\, adviseurs\, projectleiders en passievolle medewer
 kers over impact maken!\n 	Een energieke bijeenkomst. Geen saaie powerpoi
 nt presentaties. Wel inspiratie en motivatie.\n\nOntdek alle relevante 
 informatie op deze pagina. En schaf een kennismaakticket aan voor slechts
  € 47!\n\nMeer informatie/aanmelden
ATTACH;FMTTYPE=image/jpeg:https://www.duurzaam-ondernemen.nl/wordpress/wp-
 content/uploads/2024/04/SPI-20-juni-banner-1.png
CATEGORIES:Duurzaamheidsprofessionals
LOCATION:Theater De Flint\, Coninckstraat 60\, Amersfoort\, 3811 WK\, Neder
 land
GEO:52.159336;5.392264
X-APPLE-STRUCTURED-LOCATION;VALUE=URI;X-ADDRESS=Coninckstraat 60\, Amersfoo
 rt\, 3811 WK\, Nederland;X-APPLE-RADIUS=100;X-TITLE=Theater De Flint:geo:5
 2.159336,5.392264
END:VEVENT
BEGIN:VTIMEZONE
TZID:Europe/Amsterdam
X-LIC-LOCATION:Europe/Amsterdam
BEGIN:DAYLIGHT
DTSTART:20240331T030000
TZOFFSETFROM:+0100
TZOFFSETTO:+0200
TZNAME:CEST
END:DAYLIGHT
END:VTIMEZONE
END:VCALENDAR