BEGIN:VCALENDAR
VERSION:2.0
PRODID:-//wp-events-plugin.com//7.2.3.1//EN
TZID:Europe/Amsterdam
X-WR-TIMEZONE:Europe/Amsterdam
BEGIN:VEVENT
UID:1937@duurzaam-ondernemen.nl
DTSTART;TZID=Europe/Amsterdam:20260128T130000
DTEND;TZID=Europe/Amsterdam:20260128T160000
DTSTAMP:20251222T175112Z
URL:https://www.duurzaam-ondernemen.nl/events/event-maatschappelijk-en-suc
 cesvol-ondernemen-drie-routes-in-de-praktijk/
SUMMARY:Event Maatschappelijk en succesvol ondernemen: drie routes in de pr
 aktijk
DESCRIPTION:Tijdens deze middag kijken we hoe je als organisatie meer maats
 chappelijke impact kunt maken. Niet met theoretische modellen\, maar met 
 praktijkverhalen en concrete voorbeelden. Van impact maken binnen je eigen
  organisatie tot investeren in maatschappelijke initiatieven. Stichting Po
 sitieve Impact laat zien hoe impact en succes prima samen kunnen gaan.\nDe
  sprekers\n\n 	Tara Corduwer (CEO) en Manon Sierhuis-Bezemer (Head of Pu
 rpose &amp\; Impactmanagement) van Winclove Probiotics. Zij vertellen hoe
  zij gezondheid\, wetenschap en maatschappelijke impact samenbrengen in é
 én businessmodel. Al 38 jaar pionier in probiotica\, met een duidelijke m
 issie: 'pure winst' – voor mens\, milieu én maatschappij.\n 	John van P
 ijkeren van GoodShift laat zien hoe je slimmer kunt doneren en hoe je a
 ls organisatie acties kunt opzetten rondom thema’s en goede doelen die e
 cht bij je passen.\n 	Annemieke van Meelis (Partnermanager en Fondsbeheerd
 er van Wakibi) vertelt hoe je impact kunt maken door ondernemers in ontwi
 kkelingslanden te steunen. Wakibi vergroot de zelfredzaamheid van ondernem
 ende mensen in ruim 70 landen door microkredieten te verstrekken zonder wi
 nstoogmerk. Dankzij een terugbetalingspercentage van bijna 100% kan het ge
 ld steeds opnieuw uitgeleend worden.\n\nWat haal jij eruit?\nInspiratie en
  ideeën over:\n\n 	impact maken binnen je eigen organisatie\n 	impact ma
 ken door (micro)investeringen\n 	impact maken door je in te zetten voor 
 andere organisaties\n\nVoor wie is dit event?\nVoor professionals die hun 
 maatschappelijke impact willen vergroten en het leuk vinden om live met a
 ndere professionals te sparren.\n\nLet op\, omdat dit een kleinschalig eve
 nt is kunnen er maximaal 30 mensen deelnemen. Zorg er dus voor dat je o
 ok echt komt als je jezelf aanmeldt!\nWaarom je dit event niet wil missen
 \nGeen saaie theorie\, maar frisse inzichten\, eerlijke verhalen en prakt
 ische handvatten vanuit drie verschillende invalshoeken.\n\nMax 30 deelne
 mers!\n\nAanmelden
ATTACH;FMTTYPE=image/jpeg:https://www.duurzaam-ondernemen.nl/wordpress/wp-
 content/uploads/2025/12/Maatschappelijk-en-succesvol-ondernemen.png
CATEGORIES:Duurzaamheidsprofessionals
LOCATION:Kauwgomballenfabriek\,  Paul van Vlissingenstraat 10\, Amsterdam\,
  1096 BK\, Nederland
GEO:52.333916;4.921319
X-APPLE-STRUCTURED-LOCATION;VALUE=URI;X-ADDRESS= Paul van Vlissingenstraat 
 10\, Amsterdam\, 1096 BK\, Nederland;X-APPLE-RADIUS=100;X-TITLE=Kauwgombal
 lenfabriek:geo:52.333916,4.921319
END:VEVENT
BEGIN:VTIMEZONE
TZID:Europe/Amsterdam
X-LIC-LOCATION:Europe/Amsterdam
BEGIN:STANDARD
DTSTART:20251026T020000
TZOFFSETFROM:+0200
TZOFFSETTO:+0100
TZNAME:CET
END:STANDARD
END:VTIMEZONE
END:VCALENDAR