BEGIN:VCALENDAR
VERSION:2.0
PRODID:-//wp-events-plugin.com//7.2.3.1//EN
TZID:Europe/Amsterdam
X-WR-TIMEZONE:Europe/Amsterdam
BEGIN:VEVENT
UID:1676@duurzaam-ondernemen.nl
DTSTART;TZID=Europe/Amsterdam:20250415T133000
DTEND;TZID=Europe/Amsterdam:20250415T170000
DTSTAMP:20250326T142945Z
URL:https://www.duurzaam-ondernemen.nl/events/event-een-keten-zonder-kinde
 rarbeid/
SUMMARY:Event '‘Een keten zonder kinderarbeid’
DESCRIPTION:\n\nHet terugdringen van kinderarbeid blijft een urgente uitdag
 ing in veel inkoopketens. Zeker gezien de aankomende wet- en regelgeving\,
  zoals de CSRD en de CSDDD\, die niet alleen om data en transparantie vraa
 gt\, maar zeker ook om actie. Gezien de complexiteit rond kinderarbeid is 
 een sectorale aanpak noodzakelijk. Door een gezamenlijk aanpak is de invlo
 ed groter om het risico op kinderarbeid te verkleinen. Ook binnen organisa
 ties is samenwerking noodzakelijk. Het raakt niet alleen inkoop\, het gaat
  om de waardeketen van bedrijven.\n\nVaak is kinderarbeid niet direct zich
 tbaar\, een due diligence op kinderarbeid kan je een beter beeld geven. 
 Hoe kun je de risico’s op kinderarbeid minimaliseren? Hoe kan jij vanuit
  jouw functie bijdragen om dit risico te verminderen? Hoe werk je hierin s
 amen met directie\, CSR-managers\, met leveranciers\, etc.?\n\nWij nodigen
  je uit voor een interactief event dat concrete handvatten biedt om kinder
 arbeid in de keten tegen te gaan en je voor te bereiden op de nieuwe wet- 
 en regelgeving.\nProgramma\nOnderdeel 1. Kinderarbeid in de keten: Waar he
 bben we het over?\n\nContext schetsen onder leiding van moderator\, Sand
 er de Kramer.\nSander is presentator\, journalist en ondernemer. Hij wordt
  geprezen om zijn innovatieve manier van hulpverlening tegen onder andere 
 kinderarbeid in Sierra Leone.\n\nInterview met senior director Global Mar
 ch Against Child Labour\, Marco Dubbelt.\n\n 	Hoe en waar komt kinderarbe
 id voor\, in welke vorm?\n 	Wat zijn maatschappelijke kosten?\n 	In welke 
 sectoren spelen welke risico’s?\n\nOnderdeel 2. Regels\, wetten en eigen
  initiatief: wat moet ik en wat wil ik?\n\nWetgeving CSRD en CSDDD in 
 begrijpelijke taal met\, senior beleidsmedewerker en projectleider op het
  gebied van IMVO bij VNO-NCW en MKB-Nederland\, Marhijn Visser. Je krijgt
  een update over de CSRD\, CSDDD\, het Omnibus-voorstel en de Forced Labou
 r Directive.\n\n 	Met welke wetgeving heb je te maken?\n 	Waar staan we nu
  en wat komt er op je af?\n\n Hoe zit het met banken en kinderarbeid?\n\n
  	Hoe gaan banken om met de wetgeving en het risico op kinderarbeid als he
 t gaat om financieringsaanvragen?\n\nAudits en keurmerken: wat heb je eraa
 n?\n\n 	Is een keurmerk voldoende om kinderarbeid uit te sluiten?\n 	Welke
  keurmerken zijn nuttig?\n 	Waarom zijn audits niet geschikt?\n 	Voldoe ik
  met een keurmerk aan wetgeving?\n\nOnderdeel 3. Werken tegen kinderarbeid
  in de keten: van inkoop tot directie\n\nKinderarbeid aanpakken doe je nie
 t alleen. We gaan in dieper op organisatiestructuren. Wie binnen je organ
 isatie is verantwoordelijk voor het tegengaan kinderarbeid? Jason Mandels
  is brand accountability coördinator bij de Fair Ware Foundation en is z
 elf inkoper geweest. Hij neemt je mee in het belang van brede integratie v
 an kennis rondom dit thema binnen je organisatie.\n\n 	Wie zijn binnen je 
 bedrijf de stakeholders die een rol spelen?\n 	Wie betrek je erbij\, en ho
 e pak je dat aan?\n 	Wat heb je nodig als inkoper om dit door te voeren?\n
  	Waar loop je tegenaan\, hoe pak je dat aan?\n\nWelke rol speelt de secto
 r of branche hierin? De SER vertelt over het Truestone covenant.\n\n 	Hoe 
 werkt zo’n sector overeenkomst en hoe komt die tot stand?\n\nBrancheorga
 nisaties kunnen een rol spelen. Femke den Hartog\, beleidsadviseur bij I
 Nretail vertelt wat een branche kan doen aan kennisoverdracht en introduce
 ert een ondernemer/spreker uit de retailbranche.\n\n 	Hoe communiceren zi
 j over een beladen onderwerp als kinderarbeid?\n 	Proactief beleid is bela
 ngrijk\, maar waar heb je als bedrijf invloed op?\n\nOnderdeel 4. Aan de s
 lag!\n\nHoe kan jouw organisatie aan de slag? Met een praktijkvoorbeeld v
 an een collega-ondernemer lopen we het plan van aanpak door.\n\n 	Hoe pak 
 je het tegengaan van kinderarbeid in je keten aan?\n\nSubsidies: RVO\, de
  Rijksdienst Voor Ondernemend Nederland introduceert zijn subsidieregeling
 .\n\n 	Welke subsidies zijn er?\n 	Hoe pak je dit proces aan?\n\nNetwerken
 \n\nLeer elkaar kennen en zet de eerste stappen. Kinderarbeid aanpakken do
 e je niet alleen\, dus bouw je netwerk op\, we helpen je hier graag bij.\n
 Voor wie?\n\n 	Inkoopprofessionals\n 	Contract- en supplymanagers\n 	CSR- 
 of ESG-managers en directieleden van bedrijven en\n 	Vertegenwoordigers va
 n branches in sectoren* waar kinderarbeid een reëel risico vormt.\n\nAanm
 elden kan via deze link.\n\nDit event wordt georganiseerd door het projec
 t Kinderrechten van MKB-Nederland en VNO-NCW in samenwerking met Nevi\, be
 roepsvereniging voor inkoop\, contract- en supply managers.\n\n* 10 risico
 sectoren waar kinderarbeid voorkomt: Bouw\, Detailhandel\, Energie\, Finan
 ciële sector (deze sector kan bijdragen aan het vergroten van het risico)
 \, Groothandel\, Hout &amp\; papier\, Land- en tuinbouw\, Metaal &amp\; el
 ektronica\, Textiel &amp\; kleding\, Voedingsmiddelen\n\nHet project Kinde
 rrechten van VNO-NCW en MKB-Nederland wordt gefinancierd uit het Fonds Bes
 trijding Kinderarbeid en wordt uitgevoerd door de Rijksdienst voor Onderne
 mend Nederland (RVO)\, in opdracht van het Ministerie van Buitenlandse Zak
 en.\n\n
ATTACH;FMTTYPE=image/jpeg:https://www.duurzaam-ondernemen.nl/wordpress/wp-
 content/uploads/2025/03/keten.jpg
CATEGORIES:Duurzaamheidsprofessionals
LOCATION:Madurodam\, George Maduroplein 1\, Den Haag\, 2584 RZ\, Nederland
GEO:52.099064;4.297512
X-APPLE-STRUCTURED-LOCATION;VALUE=URI;X-ADDRESS=George Maduroplein 1\, Den 
 Haag\, 2584 RZ\, Nederland;X-APPLE-RADIUS=100;X-TITLE=Madurodam:geo:52.099
 064,4.297512
END:VEVENT
BEGIN:VTIMEZONE
TZID:Europe/Amsterdam
X-LIC-LOCATION:Europe/Amsterdam
BEGIN:DAYLIGHT
DTSTART:20250330T030000
TZOFFSETFROM:+0100
TZOFFSETTO:+0200
TZNAME:CEST
END:DAYLIGHT
END:VTIMEZONE
END:VCALENDAR