BEGIN:VCALENDAR
VERSION:2.0
PRODID:-//wp-events-plugin.com//7.2.3.1//EN
TZID:Europe/Amsterdam
X-WR-TIMEZONE:Europe/Amsterdam
BEGIN:VEVENT
UID:2006@duurzaam-ondernemen.nl
DTSTART;TZID=Europe/Amsterdam:20260317T100000
DTEND;TZID=Europe/Amsterdam:20260319T170000
DTSTAMP:20260220T110943Z
URL:https://www.duurzaam-ondernemen.nl/events/european-carbon-farming-summ
 it/
SUMMARY:European Carbon Farming Summit
DESCRIPTION:The European Carbon Farming Summit provides a space for the sec
 tor to agree on best mechanisms to scale robust climate actions. But dialo
 gues happen between individuals\, and we need everyone's involvement to sa
 feguard the enviromental integrity of carbon farming.\nBuilding momentum 
 &amp\; trust\nThe summits are articulated in three main sessions:\nWhich 
 practices for European soils?\n\n 	Regional agrosystems\n 	Farmer acceptan
 ce\n 	Co-benefits\n 	Trade-offs\n 	Value Chains\n\nWhat standards and cert
 ification mechanisms?\n\n 	Quality criteria\n 	Baselining\n 	Overlapping s
 chemes\n 	Additionality\n 	Offsetting and claims\n\nHow to monitor carbon 
 fluxes?\n\n 	Data harmonization\n 	Model calibration\n 	Emerging technolog
 ies\n 	Remote sensing\n 	Monitoring initiatives\n\nMore information
ATTACH;FMTTYPE=image/jpeg:https://www.duurzaam-ondernemen.nl/wordpress/wp-
 content/uploads/2026/02/summit-scaled.jpg
CATEGORIES:Klimaat en Energie,Voeding &amp; Landbouw
LOCATION:Padova Congress Centre\, 35131 Padua\, Padua\, 35131 \, Italië
GEO:45.41345;11.89282
X-APPLE-STRUCTURED-LOCATION;VALUE=URI;X-ADDRESS=35131 Padua\, Padua\, 35131
  \, Italië;X-APPLE-RADIUS=100;X-TITLE=Padova Congress Centre:geo:45.41345
 ,11.89282
END:VEVENT
BEGIN:VTIMEZONE
TZID:Europe/Amsterdam
X-LIC-LOCATION:Europe/Amsterdam
BEGIN:STANDARD
DTSTART:20251026T020000
TZOFFSETFROM:+0200
TZOFFSETTO:+0100
TZNAME:CET
END:STANDARD
END:VTIMEZONE
END:VCALENDAR